BEGIN:VCALENDAR
VERSION:2.0
PRODID:-//Actu.Art - ECPv6.15.13//NONSGML v1.0//EN
CALSCALE:GREGORIAN
METHOD:PUBLISH
X-WR-CALNAME:Actu.Art
X-ORIGINAL-URL:https://actu.art
X-WR-CALDESC:Évènements pour Actu.Art
BEGIN:VTIMEZONE
TZID:Europe/Paris
BEGIN:DAYLIGHT
TZOFFSETFROM:+0100
TZOFFSETTO:+0200
TZNAME:CEST
DTSTART:20240331T010000
END:DAYLIGHT
BEGIN:STANDARD
TZOFFSETFROM:+0200
TZOFFSETTO:+0100
TZNAME:CET
DTSTART:20241027T010000
END:STANDARD
BEGIN:DAYLIGHT
TZOFFSETFROM:+0100
TZOFFSETTO:+0200
TZNAME:CEST
DTSTART:20250330T010000
END:DAYLIGHT
BEGIN:STANDARD
TZOFFSETFROM:+0200
TZOFFSETTO:+0100
TZNAME:CET
DTSTART:20251026T010000
END:STANDARD
BEGIN:DAYLIGHT
TZOFFSETFROM:+0100
TZOFFSETTO:+0200
TZNAME:CEST
DTSTART:20260329T010000
END:DAYLIGHT
BEGIN:STANDARD
TZOFFSETFROM:+0200
TZOFFSETTO:+0100
TZNAME:CET
DTSTART:20261025T010000
END:STANDARD
END:VTIMEZONE
BEGIN:VEVENT
DTSTART;TZID=Europe/Paris:20250601T100000
DTEND;TZID=Europe/Paris:20251031T190000
DTSTAMP:20260421T004948
CREATED:20250715T173739Z
LAST-MODIFIED:20250715T173739Z
UID:124276-1748772000-1761937200@actu.art
SUMMARY:Exposition "Farel"- Galerie Espace Farel - Aiacciu
DESCRIPTION:Exposition « Farel » \nDu 1er juillet au 31 octobre  \nGalerie Espace Farel – Aiacciu \nUne visite dans la galerie d’Art du peintre Ajaccien Pierre Farel vous permettra de découvrir ses dernières créations: \nTableaux\, lithographies\, tirages numérotés\, carrés de soie… \nLa galerie est accolée au magasin d’encadrements de son épouse\, Maître Artisan d’Art et les horaires d’ouverture sont : \nDu mardi au vendredi de 10h00 à 12h00 et de 15h30 à 19h30 \nLe samedi de 15h30 à 19h30. \nPossibilité d’ouverture spéciale sur rendez-vous.
URL:https://actu.art/event/exposition-farel-galerie-espace-farel-aiacciu-2/
LOCATION:Galerie Espace Farel\, Rue de la Barrière 1\, Ajaccio\, Corse-du-Sud\, 20000\, France
CATEGORIES:Expositions Galeries
ATTACH;FMTTYPE=image/jpeg:https://actu.art/wp-content/uploads/2025/07/Exposition_Farel_Galerie_Espace_Farel_Aiacciu.jpg
GEO:41.924357;8.737602
X-APPLE-STRUCTURED-LOCATION;VALUE=URI;X-ADDRESS=Galerie Espace Farel Rue de la Barrière 1 Ajaccio Corse-du-Sud 20000 France;X-APPLE-RADIUS=500;X-TITLE=Rue de la Barrière 1:geo:8.737602,41.924357
END:VEVENT
END:VCALENDAR