BEGIN:VCALENDAR
VERSION:2.0
PRODID:-//Actu.Art - ECPv6.15.13//NONSGML v1.0//EN
CALSCALE:GREGORIAN
METHOD:PUBLISH
X-WR-CALNAME:Actu.Art
X-ORIGINAL-URL:https://actu.art
X-WR-CALDESC:Évènements pour Actu.Art
BEGIN:VTIMEZONE
TZID:Europe/Paris
BEGIN:DAYLIGHT
TZOFFSETFROM:+0100
TZOFFSETTO:+0200
TZNAME:CEST
DTSTART:20240331T010000
END:DAYLIGHT
BEGIN:STANDARD
TZOFFSETFROM:+0200
TZOFFSETTO:+0100
TZNAME:CET
DTSTART:20241027T010000
END:STANDARD
BEGIN:DAYLIGHT
TZOFFSETFROM:+0100
TZOFFSETTO:+0200
TZNAME:CEST
DTSTART:20250330T010000
END:DAYLIGHT
BEGIN:STANDARD
TZOFFSETFROM:+0200
TZOFFSETTO:+0100
TZNAME:CET
DTSTART:20251026T010000
END:STANDARD
BEGIN:DAYLIGHT
TZOFFSETFROM:+0100
TZOFFSETTO:+0200
TZNAME:CEST
DTSTART:20260329T010000
END:DAYLIGHT
BEGIN:STANDARD
TZOFFSETFROM:+0200
TZOFFSETTO:+0100
TZNAME:CET
DTSTART:20261025T010000
END:STANDARD
END:VTIMEZONE
BEGIN:VEVENT
DTSTART;TZID=Europe/Paris:20250731T140000
DTEND;TZID=Europe/Paris:20250811T180000
DTSTAMP:20260423T220356
CREATED:20250703T214112Z
LAST-MODIFIED:20250703T214112Z
UID:122582-1753970400-1754935200@actu.art
SUMMARY:Exposition "Expressions sensibles"
DESCRIPTION:L’exposition de peintures et de sculptures de l’association « Art en Avenir ! » met en scène différents artistes dont l’éclectisme cache une communauté vibrante de sensibilités et d’émotions.\nNicole SEILER présente des œuvres sensuelles\, colorées et transparentes où le corps féminin se fond dans un univers maritime rappelant le « sentiment océanique ».\nNelly CARNET explore une abstraction lyrique toute en lumière et couleurs s’harmonisant en profondeur et transparence.\nLe monde végétal de louis LEMÉE\, tout en fluidité\, s’accorde avec les fortes émotions que les arbres et la lumière des sous bois procurent : un évident sentiment de nature.\nLes nus de Jarek KRUK\, graphiques et enlevés\, nous transportent vers un univers féminin sensuel et sublimé.\nPhilippe ALLIET-DELACROIX avec ses toiles imposantes nous montrent des mises en scène intrigantes ne cessant de nous interroger. Il nous dévoile son univers onirique.\nL’expressionnisme de Paul MAULPOIX enveloppe ses sculptures en bronze dévoilant sa compassion pour la condition humaine et animale\, jouant sur les registres du tragique ou de l’humour dénonciateur.\nEntrée gratuite tous les jours\, sauf dimanche 03 août\, entrée participative 1€ et ouvert de 9h à 18h.
URL:https://actu.art/event/exposition-expressions-sensibles/
LOCATION:Salle Alain Cuny\, rue d’Astériac\, Beauvoir\, Manche\, 50170\, France
CATEGORIES:Expositions
ATTACH;FMTTYPE=image/jpeg:https://actu.art/wp-content/uploads/2025/07/Exposition_Expressions_sensibles_.jpg
GEO:48.596894;-1.50884
X-APPLE-STRUCTURED-LOCATION;VALUE=URI;X-ADDRESS=Salle Alain Cuny rue d’Astériac Beauvoir Manche 50170 France;X-APPLE-RADIUS=500;X-TITLE=rue d’Astériac:geo:-1.50884,48.596894
END:VEVENT
END:VCALENDAR