BEGIN:VCALENDAR
VERSION:2.0
PRODID:-//Actu.Art - ECPv6.15.13//NONSGML v1.0//EN
CALSCALE:GREGORIAN
METHOD:PUBLISH
X-WR-CALNAME:Actu.Art
X-ORIGINAL-URL:https://actu.art
X-WR-CALDESC:Évènements pour Actu.Art
BEGIN:VTIMEZONE
TZID:Europe/Paris
BEGIN:DAYLIGHT
TZOFFSETFROM:+0100
TZOFFSETTO:+0200
TZNAME:CEST
DTSTART:20240331T010000
END:DAYLIGHT
BEGIN:STANDARD
TZOFFSETFROM:+0200
TZOFFSETTO:+0100
TZNAME:CET
DTSTART:20241027T010000
END:STANDARD
BEGIN:DAYLIGHT
TZOFFSETFROM:+0100
TZOFFSETTO:+0200
TZNAME:CEST
DTSTART:20250330T010000
END:DAYLIGHT
BEGIN:STANDARD
TZOFFSETFROM:+0200
TZOFFSETTO:+0100
TZNAME:CET
DTSTART:20251026T010000
END:STANDARD
BEGIN:DAYLIGHT
TZOFFSETFROM:+0100
TZOFFSETTO:+0200
TZNAME:CEST
DTSTART:20260329T010000
END:DAYLIGHT
BEGIN:STANDARD
TZOFFSETFROM:+0200
TZOFFSETTO:+0100
TZNAME:CET
DTSTART:20261025T010000
END:STANDARD
END:VTIMEZONE
BEGIN:VEVENT
DTSTART;TZID=Europe/Paris:20250701T103000
DTEND;TZID=Europe/Paris:20250713T183000
DTSTAMP:20260420T172015
CREATED:20250811T220041Z
LAST-MODIFIED:20250811T220041Z
UID:126789-1751365800-1752431400@actu.art
SUMMARY:Exposition et vernissage J&J
DESCRIPTION:Exposition des artistes Jane Greenwood et Jessica Weduwer\, dans la salle du Conseil de la Mairie de Montcuq.
URL:https://actu.art/event/exposition-et-vernissage-jj/
LOCATION:Mairie de Montcuq-en-Quercy-Blanc\, 1 Place des Consuls\, Montcuq-en-Quercy-Blanc\, Lot\, 46800
CATEGORIES:Expositions
ATTACH;FMTTYPE=image/jpeg:https://actu.art/wp-content/uploads/2025/08/Exposition_et_vernissage_J_J.jpg
GEO:44.3384845;1.209782
X-APPLE-STRUCTURED-LOCATION;VALUE=URI;X-ADDRESS=Mairie de Montcuq-en-Quercy-Blanc 1 Place des Consuls Montcuq-en-Quercy-Blanc Lot 46800;X-APPLE-RADIUS=500;X-TITLE=1 Place des Consuls:geo:1.209782,44.3384845
END:VEVENT
END:VCALENDAR