BEGIN:VCALENDAR
VERSION:2.0
PRODID:-//Actu.Art - ECPv6.15.13//NONSGML v1.0//EN
CALSCALE:GREGORIAN
METHOD:PUBLISH
X-WR-CALNAME:Actu.Art
X-ORIGINAL-URL:https://actu.art
X-WR-CALDESC:Évènements pour Actu.Art
BEGIN:VTIMEZONE
TZID:Europe/Paris
BEGIN:DAYLIGHT
TZOFFSETFROM:+0100
TZOFFSETTO:+0200
TZNAME:CEST
DTSTART:20240331T010000
END:DAYLIGHT
BEGIN:STANDARD
TZOFFSETFROM:+0200
TZOFFSETTO:+0100
TZNAME:CET
DTSTART:20241027T010000
END:STANDARD
BEGIN:DAYLIGHT
TZOFFSETFROM:+0100
TZOFFSETTO:+0200
TZNAME:CEST
DTSTART:20250330T010000
END:DAYLIGHT
BEGIN:STANDARD
TZOFFSETFROM:+0200
TZOFFSETTO:+0100
TZNAME:CET
DTSTART:20251026T010000
END:STANDARD
BEGIN:DAYLIGHT
TZOFFSETFROM:+0100
TZOFFSETTO:+0200
TZNAME:CEST
DTSTART:20260329T010000
END:DAYLIGHT
BEGIN:STANDARD
TZOFFSETFROM:+0200
TZOFFSETTO:+0100
TZNAME:CET
DTSTART:20261025T010000
END:STANDARD
END:VTIMEZONE
BEGIN:VEVENT
DTSTART;VALUE=DATE:20250808
DTEND;VALUE=DATE:20250824
DTSTAMP:20260424T202136
CREATED:20250910T220750Z
LAST-MODIFIED:20250910T220750Z
UID:126918-1754611200-1755993599@actu.art
SUMMARY:Exposition Estivale – Galerie Art Lim’ – Limoges
DESCRIPTION:La Galerie Art’Lim à Limoges présente une exposition collective réunissant 14 artistes aux univers variés. Le vernissage aura lieu le 31 mai à 18h30. Peinture\, photographie\, sculpture et plus encore sont à découvrir du mardi au samedi. Une immersion artistique riche et inspirante.
URL:https://actu.art/event/exposition-estivale-galerie-art-lim-limoges/
LOCATION:Galerie Art’Lim\, Rue Charles Michels 23\, Limoges\, Haute-Vienne\, 87000\, France
CATEGORIES:Expositions Galeries
ATTACH;FMTTYPE=image/jpeg:https://actu.art/wp-content/uploads/2025/08/Exposition_Estivale_Galerie_Art_Lim_Limoges.jpg
GEO:45.8290252;1.259933
X-APPLE-STRUCTURED-LOCATION;VALUE=URI;X-ADDRESS=Galerie Art’Lim Rue Charles Michels 23 Limoges Haute-Vienne 87000 France;X-APPLE-RADIUS=500;X-TITLE=Rue Charles Michels 23:geo:1.259933,45.8290252
END:VEVENT
END:VCALENDAR