BEGIN:VCALENDAR
VERSION:2.0
PRODID:-//Actu.Art - ECPv6.15.13//NONSGML v1.0//EN
CALSCALE:GREGORIAN
METHOD:PUBLISH
X-WR-CALNAME:Actu.Art
X-ORIGINAL-URL:https://actu.art
X-WR-CALDESC:Évènements pour Actu.Art
BEGIN:VTIMEZONE
TZID:Europe/Paris
BEGIN:DAYLIGHT
TZOFFSETFROM:+0100
TZOFFSETTO:+0200
TZNAME:CEST
DTSTART:20240331T010000
END:DAYLIGHT
BEGIN:STANDARD
TZOFFSETFROM:+0200
TZOFFSETTO:+0100
TZNAME:CET
DTSTART:20241027T010000
END:STANDARD
BEGIN:DAYLIGHT
TZOFFSETFROM:+0100
TZOFFSETTO:+0200
TZNAME:CEST
DTSTART:20250330T010000
END:DAYLIGHT
BEGIN:STANDARD
TZOFFSETFROM:+0200
TZOFFSETTO:+0100
TZNAME:CET
DTSTART:20251026T010000
END:STANDARD
BEGIN:DAYLIGHT
TZOFFSETFROM:+0100
TZOFFSETTO:+0200
TZNAME:CEST
DTSTART:20260329T010000
END:DAYLIGHT
BEGIN:STANDARD
TZOFFSETFROM:+0200
TZOFFSETTO:+0100
TZNAME:CET
DTSTART:20261025T010000
END:STANDARD
END:VTIMEZONE
BEGIN:VEVENT
DTSTART;TZID=Europe/Paris:20250607T160000
DTEND;TZID=Europe/Paris:20250831T190000
DTSTAMP:20260426T043340
CREATED:20250601T212627Z
LAST-MODIFIED:20250601T212627Z
UID:119893-1749312000-1756666800@actu.art
SUMMARY:Exposition estivale « Always the Sun » avec les œuvres vidéos d’Ange Leccia\, Saodat Ismailova\, A.K. Burns\, Muhannad Shono et Agnieszka Polska - Casa Conti\, Ange Leccia  - Oletta
DESCRIPTION:Exposition estivale « Always the Sun » avec les œuvres vidéos d’Ange Leccia\, Saodat Ismailova\, A.K. Burns\, Muhannad Shono et Agnieszka Polska\nÀ découvrir du 7 juin au 31 août – Du mardi au samedi : 10h-12h / 15h-19h dimanche : 10h-12h / 16h-19h30\nVernisssage de l’exposition le samedi 7 juin de 16h à 20h\nCasa Conti\, Ange Leccia – Oletta \nRendez-vous samedi 7 juin de 16h à 20h pour le vernissage de l’exposition estivale « Always the Sun » avec les œuvres vidéos d’Ange Leccia\, Saodat Ismailova\, A.K. Burns\, Muhannad Shono et Agnieszka Polska. L’exposition reste visible jusqu’au 31 août 2025. \ni[Nous avons le plaisir de présenter « Always the Sun »\, une exposition en partenariat avec le OFF de la Biennale @derenava.art à Bonifacio. Conçu comme le pendant de son projet « Plein Soleil » qui plonge dans les collections du Centre Pompidou autour de cette thématique solaire\, son titre fait écho à la chanson éponyme du groupe britannique The Stranglers\, sortie en 1986 – une ballade mélancolique dont le refrain interroge la constance du soleil dans un monde troublé. À travers le médium de l’image en mouvement\, « Always the Sun » propose une traversée sensible et critique des représentations de l’astre\, en convoquant récits\, mythes\, perceptions et expériences où le soleil devient une véritable surface de projection. […] Les œuvres réunies dans l’exposition mobilisent les possibilités plastiques\, symboliques et narratives de la vidéo pour approcher ce foyer instable. Certaines adoptent une approche historique ou mythologique\, d’autres s’ancrent dans des réalités géographiques précises\, d’autres encore mettent en scène une parole intime ou une perception altérée. Ce qui circule entre elles\, ce n’est pas un message commun\, mais une ambivalence : entre fascination et résistance\, dévoilement et disparition\, mesure et vertige. […] ]i \nCommissariat Fabien Danesi			  \n			 Plus d’infos sur le site ou en téléchargement.
URL:https://actu.art/event/exposition-estivale-always-the-sun-avec-les-oeuvres-videos-dange-leccia-saodat-ismailova-a-k-burns-muhannad-shono-et-agnieszka-polska-casa-conti-ange-leccia-oletta/
LOCATION:Quartier Boccheciampe\, D-138\, Oletta\, Haute-Corse\, 20232
CATEGORIES:Expositions
ATTACH;FMTTYPE=image/jpeg:https://actu.art/wp-content/uploads/2025/06/Exposition_estivale_Always_the_Sun_avec_les_uvres_videos_d_Ange_Leccia_Saodat_Ismailova_A_K_Burns_Muhannad_Shono_et_Agnieszka_Polska_Casa_Conti_Ange_Leccia_Oletta.jpg
GEO:42.6311717;9.3567394
X-APPLE-STRUCTURED-LOCATION;VALUE=URI;X-ADDRESS=Quartier Boccheciampe D-138 Oletta Haute-Corse 20232;X-APPLE-RADIUS=500;X-TITLE=D-138:geo:9.3567394,42.6311717
END:VEVENT
END:VCALENDAR