BEGIN:VCALENDAR
VERSION:2.0
PRODID:-//Actu.Art - ECPv6.15.13//NONSGML v1.0//EN
CALSCALE:GREGORIAN
METHOD:PUBLISH
X-WR-CALNAME:Actu.Art
X-ORIGINAL-URL:https://actu.art
X-WR-CALDESC:Évènements pour Actu.Art
BEGIN:VTIMEZONE
TZID:Europe/Paris
BEGIN:DAYLIGHT
TZOFFSETFROM:+0100
TZOFFSETTO:+0200
TZNAME:CEST
DTSTART:20240331T010000
END:DAYLIGHT
BEGIN:STANDARD
TZOFFSETFROM:+0200
TZOFFSETTO:+0100
TZNAME:CET
DTSTART:20241027T010000
END:STANDARD
BEGIN:DAYLIGHT
TZOFFSETFROM:+0100
TZOFFSETTO:+0200
TZNAME:CEST
DTSTART:20250330T010000
END:DAYLIGHT
BEGIN:STANDARD
TZOFFSETFROM:+0200
TZOFFSETTO:+0100
TZNAME:CET
DTSTART:20251026T010000
END:STANDARD
BEGIN:DAYLIGHT
TZOFFSETFROM:+0100
TZOFFSETTO:+0200
TZNAME:CEST
DTSTART:20260329T010000
END:DAYLIGHT
BEGIN:STANDARD
TZOFFSETFROM:+0200
TZOFFSETTO:+0100
TZNAME:CET
DTSTART:20261025T010000
END:STANDARD
END:VTIMEZONE
BEGIN:VEVENT
DTSTART;TZID=Europe/Paris:20251018T000000
DTEND;TZID=Europe/Paris:20251122T235900
DTSTAMP:20260424T124649
CREATED:20251118T132556Z
LAST-MODIFIED:20251118T132556Z
UID:133482-1760745600-1763855940@actu.art
SUMMARY:Exposition entre Terre et Mer
DESCRIPTION:Une exposition de peinture et sculpture entre terre et mer. \nAvec les œuvres des artistes :\nKarine Chaudé – sculpteur\nAnnie Christy – peinture \nVernissage samedi 18 octobre 2025 de 17h à 20h \nAtelier d’écriture samedi 25 octobre 2025 de 14h à 16h30\nAnimé par Marisha\, association de Lune et de Miel
URL:https://actu.art/event/exposition-entre-terre-et-mer-5/
LOCATION:Galerie Art by bgr\, 14 rue Raymond poincaré\, Rambouillet\, Yvelines\, 78120
CATEGORIES:Expositions Galeries
ATTACH;FMTTYPE=image/jpeg:https://actu.art/wp-content/uploads/2025/11/Exposition_entre_Terre_et_Mer.jpg
GEO:48.646235;1.818869
X-APPLE-STRUCTURED-LOCATION;VALUE=URI;X-ADDRESS=Galerie Art by bgr 14 rue Raymond poincaré Rambouillet Yvelines 78120;X-APPLE-RADIUS=500;X-TITLE=14 rue Raymond poincaré:geo:1.818869,48.646235
END:VEVENT
END:VCALENDAR