BEGIN:VCALENDAR
VERSION:2.0
PRODID:-//Actu.Art - ECPv6.15.13//NONSGML v1.0//EN
CALSCALE:GREGORIAN
METHOD:PUBLISH
X-WR-CALNAME:Actu.Art
X-ORIGINAL-URL:https://actu.art
X-WR-CALDESC:Évènements pour Actu.Art
BEGIN:VTIMEZONE
TZID:Europe/Paris
BEGIN:DAYLIGHT
TZOFFSETFROM:+0100
TZOFFSETTO:+0200
TZNAME:CEST
DTSTART:20240331T010000
END:DAYLIGHT
BEGIN:STANDARD
TZOFFSETFROM:+0200
TZOFFSETTO:+0100
TZNAME:CET
DTSTART:20241027T010000
END:STANDARD
BEGIN:DAYLIGHT
TZOFFSETFROM:+0100
TZOFFSETTO:+0200
TZNAME:CEST
DTSTART:20250330T010000
END:DAYLIGHT
BEGIN:STANDARD
TZOFFSETFROM:+0200
TZOFFSETTO:+0100
TZNAME:CET
DTSTART:20251026T010000
END:STANDARD
BEGIN:DAYLIGHT
TZOFFSETFROM:+0100
TZOFFSETTO:+0200
TZNAME:CEST
DTSTART:20260329T010000
END:DAYLIGHT
BEGIN:STANDARD
TZOFFSETFROM:+0200
TZOFFSETTO:+0100
TZNAME:CET
DTSTART:20261025T010000
END:STANDARD
END:VTIMEZONE
BEGIN:VEVENT
DTSTART;TZID=Europe/Paris:20250418T100000
DTEND;TZID=Europe/Paris:20250831T190000
DTSTAMP:20260421T165420
CREATED:20250408T212149Z
LAST-MODIFIED:20250408T212149Z
UID:113589-1744970400-1756666800@actu.art
SUMMARY:[Exposition] Entre les lignes
DESCRIPTION:Renaud Allirand\, «Entre les lignes»\nExposition en plusieurs chapitres du 18 avril au 31 août 2025  \nPrésence de l’artiste les 19 et 20 avril \nGRAVURES – DESSINS – PEINTURES\nILLUSTRATIONS – LIVRES DE POÉSIE \nOuverture sur rendez-vous\, tous les jours.
URL:https://actu.art/event/exposition-entre-les-lignes/
LOCATION:Galerie Garnier Delaporte\, Sancerre\, Cher\, 18300\, France
CATEGORIES:Expositions Galeries
ATTACH;FMTTYPE=image/jpeg:https://actu.art/wp-content/uploads/2025/04/Exposition_Entre_les_lignes.jpg
GEO:47.329583;2.839867
END:VEVENT
END:VCALENDAR