BEGIN:VCALENDAR
VERSION:2.0
PRODID:-//Actu.Art - ECPv6.15.13//NONSGML v1.0//EN
CALSCALE:GREGORIAN
METHOD:PUBLISH
X-WR-CALNAME:Actu.Art
X-ORIGINAL-URL:https://actu.art
X-WR-CALDESC:Évènements pour Actu.Art
BEGIN:VTIMEZONE
TZID:Europe/Paris
BEGIN:DAYLIGHT
TZOFFSETFROM:+0100
TZOFFSETTO:+0200
TZNAME:CEST
DTSTART:20250330T010000
END:DAYLIGHT
BEGIN:STANDARD
TZOFFSETFROM:+0200
TZOFFSETTO:+0100
TZNAME:CET
DTSTART:20251026T010000
END:STANDARD
BEGIN:DAYLIGHT
TZOFFSETFROM:+0100
TZOFFSETTO:+0200
TZNAME:CEST
DTSTART:20260329T010000
END:DAYLIGHT
BEGIN:STANDARD
TZOFFSETFROM:+0200
TZOFFSETTO:+0100
TZNAME:CET
DTSTART:20261025T010000
END:STANDARD
BEGIN:DAYLIGHT
TZOFFSETFROM:+0100
TZOFFSETTO:+0200
TZNAME:CEST
DTSTART:20270328T010000
END:DAYLIGHT
BEGIN:STANDARD
TZOFFSETFROM:+0200
TZOFFSETTO:+0100
TZNAME:CET
DTSTART:20271031T010000
END:STANDARD
END:VTIMEZONE
BEGIN:VEVENT
DTSTART;VALUE=DATE:20260206
DTEND;VALUE=DATE:20260321
DTSTAMP:20260421T135911
CREATED:20260305T160209Z
LAST-MODIFIED:20260305T160209Z
UID:139617-1770336000-1774051199@actu.art
SUMMARY:Exposition « Entre Détails et Dessins »
DESCRIPTION:La Bibliothèque municipale Alain-Fournier de Mehun-sur-Yèvre accueille l’exposition « Entre détails et dessins » de Stéphane Naudin.\nÀ travers ses œuvres\, l’artiste met en lumière le patrimoine architectural et les paysages urbains\, révélant la richesse des formes\, des matières et des perspectives. Ses dessins\, précis et sensibles\, invitent à redécouvrir le territoire sous un regard artistique attentif aux moindres détails.\nEntrée libre aux horaires d’ouverture habituels de la bibliothèque.
URL:https://actu.art/event/exposition-entre-details-et-dessins/
LOCATION:Bibliothèque municipale Alain-Fournier\, 13 rue Emile Zola\, Mehun-sur-Yèvre\, Cher\, 18500
CATEGORIES:Expositions
ATTACH;FMTTYPE=image/jpeg:https://actu.art/wp-content/uploads/2026/03/Exposition_Entre_Details_et_Dessins_.jpg
GEO:47.1450282;2.2155797
X-APPLE-STRUCTURED-LOCATION;VALUE=URI;X-ADDRESS=Bibliothèque municipale Alain-Fournier 13 rue Emile Zola Mehun-sur-Yèvre Cher 18500;X-APPLE-RADIUS=500;X-TITLE=13 rue Emile Zola:geo:2.2155797,47.1450282
END:VEVENT
END:VCALENDAR