BEGIN:VCALENDAR
VERSION:2.0
PRODID:-//Actu.Art - ECPv6.15.13//NONSGML v1.0//EN
CALSCALE:GREGORIAN
METHOD:PUBLISH
X-WR-CALNAME:Actu.Art
X-ORIGINAL-URL:https://actu.art
X-WR-CALDESC:Évènements pour Actu.Art
BEGIN:VTIMEZONE
TZID:Europe/Paris
BEGIN:DAYLIGHT
TZOFFSETFROM:+0100
TZOFFSETTO:+0200
TZNAME:CEST
DTSTART:20230326T010000
END:DAYLIGHT
BEGIN:STANDARD
TZOFFSETFROM:+0200
TZOFFSETTO:+0100
TZNAME:CET
DTSTART:20231029T010000
END:STANDARD
BEGIN:DAYLIGHT
TZOFFSETFROM:+0100
TZOFFSETTO:+0200
TZNAME:CEST
DTSTART:20240331T010000
END:DAYLIGHT
BEGIN:STANDARD
TZOFFSETFROM:+0200
TZOFFSETTO:+0100
TZNAME:CET
DTSTART:20241027T010000
END:STANDARD
BEGIN:DAYLIGHT
TZOFFSETFROM:+0100
TZOFFSETTO:+0200
TZNAME:CEST
DTSTART:20250330T010000
END:DAYLIGHT
BEGIN:STANDARD
TZOFFSETFROM:+0200
TZOFFSETTO:+0100
TZNAME:CET
DTSTART:20251026T010000
END:STANDARD
END:VTIMEZONE
BEGIN:VEVENT
DTSTART;VALUE=DATE:20240917
DTEND;VALUE=DATE:20241024
DTSTAMP:20260421T121300
CREATED:20241127T162831Z
LAST-MODIFIED:20241127T162831Z
UID:99214-1726531200-1729727999@actu.art
SUMMARY:Exposition Encre de Chine
DESCRIPTION:Dany Rigondeau est une artiste peintre locale\, autodidacte amoureuse des couleurs et de l’artiste peintre Van Gogh. Elle lui rend hommage autour d’une vingtaine de toiles qui viennent illuminer la galerie de l’office de tourisme.
URL:https://actu.art/event/exposition-encre-de-chine/
LOCATION:Bureau d’Information Touristique de Montrejeau\, Espace André Marquerie\, Rue du Barry 6\, Montréjeau\, Haute-Garonne\, 31210\, France
CATEGORIES:Expositions
ATTACH;FMTTYPE=image/jpeg:https://actu.art/wp-content/uploads/2024/09/Exposition_Encre_de_Chine.jpg
GEO:43.0850787;0.5694417
X-APPLE-STRUCTURED-LOCATION;VALUE=URI;X-ADDRESS=Bureau d’Information Touristique de Montrejeau Espace André Marquerie Rue du Barry 6 Montréjeau Haute-Garonne 31210 France;X-APPLE-RADIUS=500;X-TITLE=Rue du Barry 6:geo:0.5694417,43.0850787
END:VEVENT
END:VCALENDAR