BEGIN:VCALENDAR
VERSION:2.0
PRODID:-//Actu.Art - ECPv6.15.13//NONSGML v1.0//EN
CALSCALE:GREGORIAN
METHOD:PUBLISH
X-WR-CALNAME:Actu.Art
X-ORIGINAL-URL:https://actu.art
X-WR-CALDESC:Évènements pour Actu.Art
BEGIN:VTIMEZONE
TZID:Europe/Paris
BEGIN:DAYLIGHT
TZOFFSETFROM:+0100
TZOFFSETTO:+0200
TZNAME:CEST
DTSTART:20230326T010000
END:DAYLIGHT
BEGIN:STANDARD
TZOFFSETFROM:+0200
TZOFFSETTO:+0100
TZNAME:CET
DTSTART:20231029T010000
END:STANDARD
BEGIN:DAYLIGHT
TZOFFSETFROM:+0100
TZOFFSETTO:+0200
TZNAME:CEST
DTSTART:20240331T010000
END:DAYLIGHT
BEGIN:STANDARD
TZOFFSETFROM:+0200
TZOFFSETTO:+0100
TZNAME:CET
DTSTART:20241027T010000
END:STANDARD
BEGIN:DAYLIGHT
TZOFFSETFROM:+0100
TZOFFSETTO:+0200
TZNAME:CEST
DTSTART:20250330T010000
END:DAYLIGHT
BEGIN:STANDARD
TZOFFSETFROM:+0200
TZOFFSETTO:+0100
TZNAME:CET
DTSTART:20251026T010000
END:STANDARD
END:VTIMEZONE
BEGIN:VEVENT
DTSTART;TZID=Europe/Paris:20240330T100000
DTEND;TZID=Europe/Paris:20241111T180000
DTSTAMP:20260423T053018
CREATED:20240316T194640Z
LAST-MODIFIED:20240316T194640Z
UID:80385-1711792800-1731348000@actu.art
SUMMARY:Exposition Effervescences
DESCRIPTION:Exposition d’Art Contemporain Effervescences au Château du Rivau.
URL:https://actu.art/event/exposition-effervescences/
LOCATION:Château du Rivau\, 9 rue du Château\, Lémeré \, Indre-et-Loire\, 37120\, France
CATEGORIES:Expositions
ATTACH;FMTTYPE=image/jpeg:https://actu.art/wp-content/uploads/2024/03/Exposition_Effervescences.jpg
GEO:47.1038659;0.3230635
X-APPLE-STRUCTURED-LOCATION;VALUE=URI;X-ADDRESS=Château du Rivau 9 rue du Château Lémeré  Indre-et-Loire 37120 France;X-APPLE-RADIUS=500;X-TITLE=9 rue du Château:geo:0.3230635,47.1038659
END:VEVENT
END:VCALENDAR