BEGIN:VCALENDAR
VERSION:2.0
PRODID:-//Actu.Art - ECPv6.15.13//NONSGML v1.0//EN
CALSCALE:GREGORIAN
METHOD:PUBLISH
X-WR-CALNAME:Actu.Art
X-ORIGINAL-URL:https://actu.art
X-WR-CALDESC:Évènements pour Actu.Art
BEGIN:VTIMEZONE
TZID:Europe/Paris
BEGIN:DAYLIGHT
TZOFFSETFROM:+0100
TZOFFSETTO:+0200
TZNAME:CEST
DTSTART:20230326T010000
END:DAYLIGHT
BEGIN:STANDARD
TZOFFSETFROM:+0200
TZOFFSETTO:+0100
TZNAME:CET
DTSTART:20231029T010000
END:STANDARD
BEGIN:DAYLIGHT
TZOFFSETFROM:+0100
TZOFFSETTO:+0200
TZNAME:CEST
DTSTART:20240331T010000
END:DAYLIGHT
BEGIN:STANDARD
TZOFFSETFROM:+0200
TZOFFSETTO:+0100
TZNAME:CET
DTSTART:20241027T010000
END:STANDARD
BEGIN:DAYLIGHT
TZOFFSETFROM:+0100
TZOFFSETTO:+0200
TZNAME:CEST
DTSTART:20250330T010000
END:DAYLIGHT
BEGIN:STANDARD
TZOFFSETFROM:+0200
TZOFFSETTO:+0100
TZNAME:CET
DTSTART:20251026T010000
END:STANDARD
END:VTIMEZONE
BEGIN:VEVENT
DTSTART;TZID=Europe/Paris:20241109T140000
DTEND;TZID=Europe/Paris:20241124T180000
DTSTAMP:20260422T022104
CREATED:20241112T221351Z
LAST-MODIFIED:20241112T221351Z
UID:104294-1731160800-1732471200@actu.art
SUMMARY:Exposition du mosaïste Gérard Brand et du peintre Luc Dornstetter
DESCRIPTION:Le mosaïste obernois Gérard Brand présentera des tableaux et des sculptures en vitrail coloré\, et le peintre Luc Dornstetter\, spécialiste de l’art sacré propose une série de grands panneaux sur le thème de la musique et de la Bible.
URL:https://actu.art/event/exposition-du-mosaiste-gerard-brand-et-du-peintre-luc-dornstetter/
LOCATION:Eglise Saints Pierre-et-Paul\, rue du Chanoine Gyss\, Obernai\, Bas-Rhin\, 67210\, France
CATEGORIES:Expositions
ATTACH;FMTTYPE=image/jpeg:https://actu.art/wp-content/uploads/2024/11/Exposition_du_mosaiste_Gerard_Brand_et_du_peintre_Luc_Dornstetter.jpg
GEO:48.4630046;7.4815297
X-APPLE-STRUCTURED-LOCATION;VALUE=URI;X-ADDRESS=Eglise Saints Pierre-et-Paul rue du Chanoine Gyss Obernai Bas-Rhin 67210 France;X-APPLE-RADIUS=500;X-TITLE=rue du Chanoine Gyss:geo:7.4815297,48.4630046
END:VEVENT
END:VCALENDAR