BEGIN:VCALENDAR
VERSION:2.0
PRODID:-//Actu.Art - ECPv6.15.13//NONSGML v1.0//EN
CALSCALE:GREGORIAN
METHOD:PUBLISH
X-WR-CALNAME:Actu.Art
X-ORIGINAL-URL:https://actu.art
X-WR-CALDESC:Évènements pour Actu.Art
BEGIN:VTIMEZONE
TZID:Europe/Paris
BEGIN:DAYLIGHT
TZOFFSETFROM:+0100
TZOFFSETTO:+0200
TZNAME:CEST
DTSTART:20250330T010000
END:DAYLIGHT
BEGIN:STANDARD
TZOFFSETFROM:+0200
TZOFFSETTO:+0100
TZNAME:CET
DTSTART:20251026T010000
END:STANDARD
BEGIN:DAYLIGHT
TZOFFSETFROM:+0100
TZOFFSETTO:+0200
TZNAME:CEST
DTSTART:20260329T010000
END:DAYLIGHT
BEGIN:STANDARD
TZOFFSETFROM:+0200
TZOFFSETTO:+0100
TZNAME:CET
DTSTART:20261025T010000
END:STANDARD
BEGIN:DAYLIGHT
TZOFFSETFROM:+0100
TZOFFSETTO:+0200
TZNAME:CEST
DTSTART:20270328T010000
END:DAYLIGHT
BEGIN:STANDARD
TZOFFSETFROM:+0200
TZOFFSETTO:+0100
TZNAME:CET
DTSTART:20271031T010000
END:STANDARD
END:VTIMEZONE
BEGIN:VEVENT
DTSTART;VALUE=DATE:20260418
DTEND;VALUE=DATE:20260504
DTSTAMP:20260423T205038
CREATED:20260416T062433Z
LAST-MODIFIED:20260416T062433Z
UID:143382-1776470400-1777852799@actu.art
SUMMARY:Exposition du Cercle d’Arts Plastiques des Monédières
DESCRIPTION:La trentaine d’artistes adhérents du Cercle d’Arts Plastiques des Monédières  présentent leurs œuvres auprés de deux invités d’honneur : Olivier Verbois\, artiste peintre et Stéphane Terret sculpteur sur bois.\nEntrée gratuite.
URL:https://actu.art/event/exposition-du-cercle-darts-plastiques-des-monedieres-2/
LOCATION:Foyer Rural\, 18  rue des Fontaines\, Saint-Ybard\, Corrèze\, 19140
CATEGORIES:Expositions
ATTACH;FMTTYPE=image/jpeg:https://actu.art/wp-content/uploads/2026/04/Exposition_du_Cercle_d_Arts_Plastiques_des_Monedieres.jpg
END:VEVENT
END:VCALENDAR