BEGIN:VCALENDAR
VERSION:2.0
PRODID:-//Actu.Art - ECPv6.15.13//NONSGML v1.0//EN
CALSCALE:GREGORIAN
METHOD:PUBLISH
X-WR-CALNAME:Actu.Art
X-ORIGINAL-URL:https://actu.art
X-WR-CALDESC:Évènements pour Actu.Art
BEGIN:VTIMEZONE
TZID:Europe/Paris
BEGIN:DAYLIGHT
TZOFFSETFROM:+0100
TZOFFSETTO:+0200
TZNAME:CEST
DTSTART:20240331T010000
END:DAYLIGHT
BEGIN:STANDARD
TZOFFSETFROM:+0200
TZOFFSETTO:+0100
TZNAME:CET
DTSTART:20241027T010000
END:STANDARD
BEGIN:DAYLIGHT
TZOFFSETFROM:+0100
TZOFFSETTO:+0200
TZNAME:CEST
DTSTART:20250330T010000
END:DAYLIGHT
BEGIN:STANDARD
TZOFFSETFROM:+0200
TZOFFSETTO:+0100
TZNAME:CET
DTSTART:20251026T010000
END:STANDARD
BEGIN:DAYLIGHT
TZOFFSETFROM:+0100
TZOFFSETTO:+0200
TZNAME:CEST
DTSTART:20260329T010000
END:DAYLIGHT
BEGIN:STANDARD
TZOFFSETFROM:+0200
TZOFFSETTO:+0100
TZNAME:CET
DTSTART:20261025T010000
END:STANDARD
END:VTIMEZONE
BEGIN:VEVENT
DTSTART;VALUE=DATE:20250524
DTEND;VALUE=DATE:20250929
DTSTAMP:20260420T134418
CREATED:20250613T131344Z
LAST-MODIFIED:20250613T131344Z
UID:120325-1748044800-1759103999@actu.art
SUMMARY:Exposition « Dickie à Antibes »
DESCRIPTION:Du 24 mai au 28 septembre\, le musée Peynet et du Dessin humoristique reçoit un héros belge\, Boerke\, internationalisé sous le nom de Dickie. Source : Office de Tourisme d’Antibes Juan-les-Pins
URL:https://actu.art/event/exposition-dickie-a-antibes/
LOCATION:Musée Peynet et du Dessin Humoristique\, place Nationale\, Antibes\, Alpes-Maritimes\, 06600\, France
CATEGORIES:Expositions
ATTACH;FMTTYPE=image/jpeg:https://actu.art/wp-content/uploads/2025/06/Exposition_Dickie_a_Antibes_.jpg
GEO:43.5813257;7.1252572
X-APPLE-STRUCTURED-LOCATION;VALUE=URI;X-ADDRESS=Musée Peynet et du Dessin Humoristique place Nationale Antibes Alpes-Maritimes 06600 France;X-APPLE-RADIUS=500;X-TITLE=place Nationale:geo:7.1252572,43.5813257
END:VEVENT
END:VCALENDAR