BEGIN:VCALENDAR
VERSION:2.0
PRODID:-//Actu.Art - ECPv6.15.13//NONSGML v1.0//EN
CALSCALE:GREGORIAN
METHOD:PUBLISH
X-WR-CALNAME:Actu.Art
X-ORIGINAL-URL:https://actu.art
X-WR-CALDESC:Évènements pour Actu.Art
BEGIN:VTIMEZONE
TZID:Europe/Paris
BEGIN:DAYLIGHT
TZOFFSETFROM:+0100
TZOFFSETTO:+0200
TZNAME:CEST
DTSTART:20240331T010000
END:DAYLIGHT
BEGIN:STANDARD
TZOFFSETFROM:+0200
TZOFFSETTO:+0100
TZNAME:CET
DTSTART:20241027T010000
END:STANDARD
BEGIN:DAYLIGHT
TZOFFSETFROM:+0100
TZOFFSETTO:+0200
TZNAME:CEST
DTSTART:20250330T010000
END:DAYLIGHT
BEGIN:STANDARD
TZOFFSETFROM:+0200
TZOFFSETTO:+0100
TZNAME:CET
DTSTART:20251026T010000
END:STANDARD
BEGIN:DAYLIGHT
TZOFFSETFROM:+0100
TZOFFSETTO:+0200
TZNAME:CEST
DTSTART:20260329T010000
END:DAYLIGHT
BEGIN:STANDARD
TZOFFSETFROM:+0200
TZOFFSETTO:+0100
TZNAME:CET
DTSTART:20261025T010000
END:STANDARD
END:VTIMEZONE
BEGIN:VEVENT
DTSTART;VALUE=DATE:20250705
DTEND;VALUE=DATE:20250901
DTSTAMP:20260422T131707
CREATED:20250801T142205Z
LAST-MODIFIED:20250801T142205Z
UID:125376-1751673600-1756684799@actu.art
SUMMARY:Exposition d’été à la galerie différence
DESCRIPTION:Exposition d’été à la Galerie Différence :\nExposition l’eau\, miroir du ciel de Stephanie Malossane\nDécouvrez les réalisation des 30 artistes et artisants d’art de la galerie\nOuvert tous les jours sauf le lundis
URL:https://actu.art/event/exposition-dete-a-la-galerie-difference/
LOCATION:Galerie Différence\, 1 Place de la République\, Carantec\, Finistère\, 29660\, France
CATEGORIES:Expositions Galeries
ATTACH;FMTTYPE=image/jpeg:https://actu.art/wp-content/uploads/2025/08/Exposition_d_ete_a_la_galerie_difference.jpg
GEO:48.669078;-3.915199
X-APPLE-STRUCTURED-LOCATION;VALUE=URI;X-ADDRESS=Galerie Différence 1 Place de la République Carantec Finistère 29660 France;X-APPLE-RADIUS=500;X-TITLE=1 Place de la République:geo:-3.915199,48.669078
END:VEVENT
END:VCALENDAR