BEGIN:VCALENDAR
VERSION:2.0
PRODID:-//Actu.Art - ECPv6.15.13//NONSGML v1.0//EN
CALSCALE:GREGORIAN
METHOD:PUBLISH
X-WR-CALNAME:Actu.Art
X-ORIGINAL-URL:https://actu.art
X-WR-CALDESC:Évènements pour Actu.Art
BEGIN:VTIMEZONE
TZID:Europe/Paris
BEGIN:DAYLIGHT
TZOFFSETFROM:+0100
TZOFFSETTO:+0200
TZNAME:CEST
DTSTART:20240331T010000
END:DAYLIGHT
BEGIN:STANDARD
TZOFFSETFROM:+0200
TZOFFSETTO:+0100
TZNAME:CET
DTSTART:20241027T010000
END:STANDARD
BEGIN:DAYLIGHT
TZOFFSETFROM:+0100
TZOFFSETTO:+0200
TZNAME:CEST
DTSTART:20250330T010000
END:DAYLIGHT
BEGIN:STANDARD
TZOFFSETFROM:+0200
TZOFFSETTO:+0100
TZNAME:CET
DTSTART:20251026T010000
END:STANDARD
BEGIN:DAYLIGHT
TZOFFSETFROM:+0100
TZOFFSETTO:+0200
TZNAME:CEST
DTSTART:20260329T010000
END:DAYLIGHT
BEGIN:STANDARD
TZOFFSETFROM:+0200
TZOFFSETTO:+0100
TZNAME:CET
DTSTART:20261025T010000
END:STANDARD
END:VTIMEZONE
BEGIN:VEVENT
DTSTART;VALUE=DATE:20251005
DTEND;VALUE=DATE:20251117
DTSTAMP:20260425T000533
CREATED:20250915T115853Z
LAST-MODIFIED:20250915T115853Z
UID:128579-1759622400-1763337599@actu.art
SUMMARY:Exposition : Des Mauves à la Loire
DESCRIPTION:Une nouvelle exposition à découvrir à la galerie Rive Mauve !
URL:https://actu.art/event/exposition-des-mauves-a-la-loire/
LOCATION:Galerie Rive Mauve\, 8 rue des chènevières\, Meung-sur-Loire\, Loiret\, 45130\, France
CATEGORIES:Expositions Galeries
ATTACH;FMTTYPE=image/jpeg:https://actu.art/wp-content/uploads/2025/09/Exposition_Des_Mauves_a_la_Loire.jpg
GEO:47.8296155;1.6970396
X-APPLE-STRUCTURED-LOCATION;VALUE=URI;X-ADDRESS=Galerie Rive Mauve 8 rue des chènevières Meung-sur-Loire Loiret 45130 France;X-APPLE-RADIUS=500;X-TITLE=8 rue des chènevières:geo:1.6970396,47.8296155
END:VEVENT
END:VCALENDAR