BEGIN:VCALENDAR
VERSION:2.0
PRODID:-//Actu.Art - ECPv6.15.13//NONSGML v1.0//EN
CALSCALE:GREGORIAN
METHOD:PUBLISH
X-WR-CALNAME:Actu.Art
X-ORIGINAL-URL:https://actu.art
X-WR-CALDESC:Évènements pour Actu.Art
BEGIN:VTIMEZONE
TZID:Europe/Paris
BEGIN:DAYLIGHT
TZOFFSETFROM:+0100
TZOFFSETTO:+0200
TZNAME:CEST
DTSTART:20240331T010000
END:DAYLIGHT
BEGIN:STANDARD
TZOFFSETFROM:+0200
TZOFFSETTO:+0100
TZNAME:CET
DTSTART:20241027T010000
END:STANDARD
BEGIN:DAYLIGHT
TZOFFSETFROM:+0100
TZOFFSETTO:+0200
TZNAME:CEST
DTSTART:20250330T010000
END:DAYLIGHT
BEGIN:STANDARD
TZOFFSETFROM:+0200
TZOFFSETTO:+0100
TZNAME:CET
DTSTART:20251026T010000
END:STANDARD
BEGIN:DAYLIGHT
TZOFFSETFROM:+0100
TZOFFSETTO:+0200
TZNAME:CEST
DTSTART:20260329T010000
END:DAYLIGHT
BEGIN:STANDARD
TZOFFSETFROM:+0200
TZOFFSETTO:+0100
TZNAME:CET
DTSTART:20261025T010000
END:STANDARD
END:VTIMEZONE
BEGIN:VEVENT
DTSTART;TZID=Europe/Paris:20250421T070000
DTEND;TZID=Europe/Paris:20250504T230000
DTSTAMP:20260426T044319
CREATED:20250421T171458Z
LAST-MODIFIED:20250421T185551Z
UID:115236-1745218800-1746399600@actu.art
SUMMARY:Exposition des jeunes artistes de la Société Artistique Balgentienne
DESCRIPTION:Exposition des jeunes artistes de la Société Artistique Balgentienne à la galerie Pellieux !
URL:https://actu.art/event/exposition-des-jeunes-artistes-de-la-societe-artistique-balgentienne/
LOCATION:Galerie Pellieux\, 27 rue cordonnerie\, Beaugency\, Loiret\, 45190
CATEGORIES:Expositions Galeries
ATTACH;FMTTYPE=image/jpeg:https://actu.art/wp-content/uploads/2025/04/Exposition_des_jeunes_artistes_de_la_Societe_Artistique_Balgentienne.jpg
GEO:47.7776095;1.6324775
X-APPLE-STRUCTURED-LOCATION;VALUE=URI;X-ADDRESS=Galerie Pellieux 27 rue cordonnerie Beaugency Loiret 45190;X-APPLE-RADIUS=500;X-TITLE=27 rue cordonnerie:geo:1.6324775,47.7776095
END:VEVENT
END:VCALENDAR