BEGIN:VCALENDAR
VERSION:2.0
PRODID:-//Actu.Art - ECPv6.15.13//NONSGML v1.0//EN
CALSCALE:GREGORIAN
METHOD:PUBLISH
X-WR-CALNAME:Actu.Art
X-ORIGINAL-URL:https://actu.art
X-WR-CALDESC:Évènements pour Actu.Art
BEGIN:VTIMEZONE
TZID:Europe/Paris
BEGIN:DAYLIGHT
TZOFFSETFROM:+0100
TZOFFSETTO:+0200
TZNAME:CEST
DTSTART:20240331T010000
END:DAYLIGHT
BEGIN:STANDARD
TZOFFSETFROM:+0200
TZOFFSETTO:+0100
TZNAME:CET
DTSTART:20241027T010000
END:STANDARD
BEGIN:DAYLIGHT
TZOFFSETFROM:+0100
TZOFFSETTO:+0200
TZNAME:CEST
DTSTART:20250330T010000
END:DAYLIGHT
BEGIN:STANDARD
TZOFFSETFROM:+0200
TZOFFSETTO:+0100
TZNAME:CET
DTSTART:20251026T010000
END:STANDARD
BEGIN:DAYLIGHT
TZOFFSETFROM:+0100
TZOFFSETTO:+0200
TZNAME:CEST
DTSTART:20260329T010000
END:DAYLIGHT
BEGIN:STANDARD
TZOFFSETFROM:+0200
TZOFFSETTO:+0100
TZNAME:CET
DTSTART:20261025T010000
END:STANDARD
END:VTIMEZONE
BEGIN:VEVENT
DTSTART;TZID=Europe/Paris:20250606T150000
DTEND;TZID=Europe/Paris:20250608T180000
DTSTAMP:20260421T071356
CREATED:20250523T193830Z
LAST-MODIFIED:20250523T193830Z
UID:118743-1749222000-1749405600@actu.art
SUMMARY:Exposition des ateliers d’Arts-Plastiques
DESCRIPTION:Expositions des travaux réalisés dans les ateliers d’Arts-Plastiques de l’association O de Rose.
URL:https://actu.art/event/exposition-des-ateliers-darts-plastiques/
LOCATION:Le présidial\, 13 bis Rue Brémond d'Ars\, Quimperlé\, Finistère\, 29300\, France
CATEGORIES:Expositions
ATTACH;FMTTYPE=image/jpeg:https://actu.art/wp-content/uploads/2025/05/Exposition_des_ateliers_d_Arts_Plastiques.jpg
GEO:47.8734052;-3.5456936
X-APPLE-STRUCTURED-LOCATION;VALUE=URI;X-ADDRESS=Le présidial 13 bis Rue Brémond d'Ars Quimperlé Finistère 29300 France;X-APPLE-RADIUS=500;X-TITLE=13 bis Rue Brémond d'Ars:geo:-3.5456936,47.8734052
END:VEVENT
END:VCALENDAR