BEGIN:VCALENDAR
VERSION:2.0
PRODID:-//Actu.Art - ECPv6.15.13//NONSGML v1.0//EN
CALSCALE:GREGORIAN
METHOD:PUBLISH
X-WR-CALNAME:Actu.Art
X-ORIGINAL-URL:https://actu.art
X-WR-CALDESC:Évènements pour Actu.Art
BEGIN:VTIMEZONE
TZID:Europe/Paris
BEGIN:DAYLIGHT
TZOFFSETFROM:+0100
TZOFFSETTO:+0200
TZNAME:CEST
DTSTART:20240331T010000
END:DAYLIGHT
BEGIN:STANDARD
TZOFFSETFROM:+0200
TZOFFSETTO:+0100
TZNAME:CET
DTSTART:20241027T010000
END:STANDARD
BEGIN:DAYLIGHT
TZOFFSETFROM:+0100
TZOFFSETTO:+0200
TZNAME:CEST
DTSTART:20250330T010000
END:DAYLIGHT
BEGIN:STANDARD
TZOFFSETFROM:+0200
TZOFFSETTO:+0100
TZNAME:CET
DTSTART:20251026T010000
END:STANDARD
BEGIN:DAYLIGHT
TZOFFSETFROM:+0100
TZOFFSETTO:+0200
TZNAME:CEST
DTSTART:20260329T010000
END:DAYLIGHT
BEGIN:STANDARD
TZOFFSETFROM:+0200
TZOFFSETTO:+0100
TZNAME:CET
DTSTART:20261025T010000
END:STANDARD
END:VTIMEZONE
BEGIN:VEVENT
DTSTART;TZID=Europe/Paris:20251122T140000
DTEND;TZID=Europe/Paris:20251123T180000
DTSTAMP:20260424T135921
CREATED:20251028T153914Z
LAST-MODIFIED:20251028T153914Z
UID:131931-1763820000-1763920800@actu.art
SUMMARY:Exposition des Artistes à Bazemont
DESCRIPTION:L’association du Gothique organise “L’Exposition des artistes” de Bazemont depuis 1982. Pour sa 42e édition !!! Cette année\, l’exposition des Artistes se déroulera pendant le week-end du salon de la gastronomie comme d’habitude ! Malheureusement\, les jeunes de “la Baze” ne participeront pas cette année\, pour des raisons de travaux. Nous les retrouverons l’année prochaine !!! Pendant ce week-end\, nous avons l’ambition de vous faire goûter une palette de couleurs et de styles sous les formes de peintures\, sculptures… relevant du talent de nos amis artistes. Nous espérons que l’harmonie des courbes de nos voûtes gothiques rejoindra celle des lignes tracées par les mains de l’artiste pour mieux inspirer conversation et convivialité !!!
URL:https://actu.art/event/exposition-des-artistes-a-bazemont/
LOCATION:Salle du Gothique\, 3\, rue d'Aulnay\, Bazemont\, 78580
CATEGORIES:Expositions
ATTACH;FMTTYPE=image/jpeg:https://actu.art/wp-content/uploads/2025/10/Exposition-des-Artistes-a-Bazemont.jpg
GEO:48.9281543;1.8651076
X-APPLE-STRUCTURED-LOCATION;VALUE=URI;X-ADDRESS=Salle du Gothique 3 rue d'Aulnay Bazemont 78580;X-APPLE-RADIUS=500;X-TITLE=3\, rue d'Aulnay:geo:1.8651076,48.9281543
END:VEVENT
END:VCALENDAR