BEGIN:VCALENDAR
VERSION:2.0
PRODID:-//Actu.Art - ECPv6.15.13//NONSGML v1.0//EN
CALSCALE:GREGORIAN
METHOD:PUBLISH
X-WR-CALNAME:Actu.Art
X-ORIGINAL-URL:https://actu.art
X-WR-CALDESC:Évènements pour Actu.Art
BEGIN:VTIMEZONE
TZID:Europe/Paris
BEGIN:DAYLIGHT
TZOFFSETFROM:+0100
TZOFFSETTO:+0200
TZNAME:CEST
DTSTART:20240331T010000
END:DAYLIGHT
BEGIN:STANDARD
TZOFFSETFROM:+0200
TZOFFSETTO:+0100
TZNAME:CET
DTSTART:20241027T010000
END:STANDARD
BEGIN:DAYLIGHT
TZOFFSETFROM:+0100
TZOFFSETTO:+0200
TZNAME:CEST
DTSTART:20250330T010000
END:DAYLIGHT
BEGIN:STANDARD
TZOFFSETFROM:+0200
TZOFFSETTO:+0100
TZNAME:CET
DTSTART:20251026T010000
END:STANDARD
BEGIN:DAYLIGHT
TZOFFSETFROM:+0100
TZOFFSETTO:+0200
TZNAME:CEST
DTSTART:20260329T010000
END:DAYLIGHT
BEGIN:STANDARD
TZOFFSETFROM:+0200
TZOFFSETTO:+0100
TZNAME:CET
DTSTART:20261025T010000
END:STANDARD
END:VTIMEZONE
BEGIN:VEVENT
DTSTART;VALUE=DATE:20250731
DTEND;VALUE=DATE:20250831
DTSTAMP:20260423T221002
CREATED:20250910T220736Z
LAST-MODIFIED:20250910T220736Z
UID:127178-1753920000-1756598399@actu.art
SUMMARY:Exposition – Dentelle de papier et peinture à la cire d’abeille
DESCRIPTION:À partir d’une simple feuille d’un papier spécial Mauricette Lejeune trace le dessin de son oeuvre de papier et le travaille en « embossant » pour donner le blanc\, perce et découpe avec des instruments spéciaux pour la finition. Un travail comme le paon représente près de 50 heures de travail.\nAndré Lejeune réalise des peintures plutôt dans l’abstraction avec de la cire d’abeille teintée dans la masse et étalée avec un fer à repasser.\nLes artistes seront présents sur place pour accueillir les visiteurs de l’exposition les samedis 9\,16\, 23 et 30 août de 10h00 à 12h00.\nOuvert aux horaires d’ouverture habituels du Bureau d’Information Touristique.
URL:https://actu.art/event/exposition-dentelle-de-papier-et-peinture-a-la-cire-dabeille/
LOCATION:Bureau d’Information Touristique – Grand Châteaudun Tourisme\, 25 rue Nationale\, Cloyes-sur-le-Loir\, Eure-et-Loir\, 28220
CATEGORIES:Expositions
ATTACH;FMTTYPE=image/jpeg:https://actu.art/wp-content/uploads/2025/08/Exposition_Dentelle_de_papier_et_peinture_a_la_cire_d_abeille.jpg
END:VEVENT
END:VCALENDAR