BEGIN:VCALENDAR
VERSION:2.0
PRODID:-//Actu.Art - ECPv6.15.13//NONSGML v1.0//EN
CALSCALE:GREGORIAN
METHOD:PUBLISH
X-WR-CALNAME:Actu.Art
X-ORIGINAL-URL:https://actu.art
X-WR-CALDESC:Évènements pour Actu.Art
BEGIN:VTIMEZONE
TZID:Europe/Paris
BEGIN:DAYLIGHT
TZOFFSETFROM:+0100
TZOFFSETTO:+0200
TZNAME:CEST
DTSTART:20240331T010000
END:DAYLIGHT
BEGIN:STANDARD
TZOFFSETFROM:+0200
TZOFFSETTO:+0100
TZNAME:CET
DTSTART:20241027T010000
END:STANDARD
BEGIN:DAYLIGHT
TZOFFSETFROM:+0100
TZOFFSETTO:+0200
TZNAME:CEST
DTSTART:20250330T010000
END:DAYLIGHT
BEGIN:STANDARD
TZOFFSETFROM:+0200
TZOFFSETTO:+0100
TZNAME:CET
DTSTART:20251026T010000
END:STANDARD
BEGIN:DAYLIGHT
TZOFFSETFROM:+0100
TZOFFSETTO:+0200
TZNAME:CEST
DTSTART:20260329T010000
END:DAYLIGHT
BEGIN:STANDARD
TZOFFSETFROM:+0200
TZOFFSETTO:+0100
TZNAME:CET
DTSTART:20261025T010000
END:STANDARD
END:VTIMEZONE
BEGIN:VEVENT
DTSTART;TZID=Europe/Paris:20250722T113000
DTEND;TZID=Europe/Paris:20250731T180000
DTSTAMP:20260422T004100
CREATED:20250629T210946Z
LAST-MODIFIED:20250629T210946Z
UID:122239-1753183800-1753984800@actu.art
SUMMARY:Exposition-dédicaces de peintures
DESCRIPTION:Exposition de peinture au Carré des Arts. Retrouvez les œuvres de Pierre Poirier « Sur le Chemin de mes Rêves » (en dédicace) et de Caroline Poirier « Instants volés »
URL:https://actu.art/event/exposition-dedicaces-de-peintures/
LOCATION:Galerie Carré des Arts\, Place Guillaume le Conquérant\, 2\, Le Bec-Hellouin \, Eure\, 27800\, France
CATEGORIES:Expositions
GEO:49.2317869;0.7215012
X-APPLE-STRUCTURED-LOCATION;VALUE=URI;X-ADDRESS=Galerie Carré des Arts Place Guillaume le Conquérant 2 Le Bec-Hellouin  Eure 27800 France;X-APPLE-RADIUS=500;X-TITLE=Place Guillaume le Conquérant\, 2:geo:0.7215012,49.2317869
END:VEVENT
END:VCALENDAR