BEGIN:VCALENDAR
VERSION:2.0
PRODID:-//Actu.Art - ECPv6.15.13//NONSGML v1.0//EN
CALSCALE:GREGORIAN
METHOD:PUBLISH
X-WR-CALNAME:Actu.Art
X-ORIGINAL-URL:https://actu.art
X-WR-CALDESC:Évènements pour Actu.Art
BEGIN:VTIMEZONE
TZID:Europe/Paris
BEGIN:DAYLIGHT
TZOFFSETFROM:+0100
TZOFFSETTO:+0200
TZNAME:CEST
DTSTART:20240331T010000
END:DAYLIGHT
BEGIN:STANDARD
TZOFFSETFROM:+0200
TZOFFSETTO:+0100
TZNAME:CET
DTSTART:20241027T010000
END:STANDARD
BEGIN:DAYLIGHT
TZOFFSETFROM:+0100
TZOFFSETTO:+0200
TZNAME:CEST
DTSTART:20250330T010000
END:DAYLIGHT
BEGIN:STANDARD
TZOFFSETFROM:+0200
TZOFFSETTO:+0100
TZNAME:CET
DTSTART:20251026T010000
END:STANDARD
BEGIN:DAYLIGHT
TZOFFSETFROM:+0100
TZOFFSETTO:+0200
TZNAME:CEST
DTSTART:20260329T010000
END:DAYLIGHT
BEGIN:STANDARD
TZOFFSETFROM:+0200
TZOFFSETTO:+0100
TZNAME:CET
DTSTART:20261025T010000
END:STANDARD
END:VTIMEZONE
BEGIN:VEVENT
DTSTART;TZID=Europe/Paris:20250510T180000
DTEND;TZID=Europe/Paris:20250622T200000
DTSTAMP:20260426T015303
CREATED:20250501T184042Z
LAST-MODIFIED:20250501T184042Z
UID:116682-1746900000-1750622400@actu.art
SUMMARY:Exposition de Simon Kroug accompagnée des poèmes de Patrizia Gattaceca - Corsica Luce - Nonza
DESCRIPTION:Exposition de Simon Kroug accompagnée des poèmes de Patrizia Gattaceca  \nDu 10 mai au 22 juin  \nVernissage le Samedi 10 Mai à 18h en présence des artistes \nNonza
URL:https://actu.art/event/exposition-de-simon-kroug-accompagnee-des-poemes-de-patrizia-gattaceca-corsica-luce-nonza/
LOCATION:U Casale\, Nonza\, 20231
CATEGORIES:Expositions
ATTACH;FMTTYPE=image/jpeg:https://actu.art/wp-content/uploads/2025/05/Exposition_de_Simon_Kroug_accompagnee_des_poemes_de_Patrizia_Gattaceca_Corsica_Luce_Nonza.jpg
END:VEVENT
END:VCALENDAR