BEGIN:VCALENDAR
VERSION:2.0
PRODID:-//Actu.Art - ECPv6.15.13//NONSGML v1.0//EN
CALSCALE:GREGORIAN
METHOD:PUBLISH
X-WR-CALNAME:Actu.Art
X-ORIGINAL-URL:https://actu.art
X-WR-CALDESC:Évènements pour Actu.Art
BEGIN:VTIMEZONE
TZID:Europe/Paris
BEGIN:DAYLIGHT
TZOFFSETFROM:+0100
TZOFFSETTO:+0200
TZNAME:CEST
DTSTART:20240331T010000
END:DAYLIGHT
BEGIN:STANDARD
TZOFFSETFROM:+0200
TZOFFSETTO:+0100
TZNAME:CET
DTSTART:20241027T010000
END:STANDARD
BEGIN:DAYLIGHT
TZOFFSETFROM:+0100
TZOFFSETTO:+0200
TZNAME:CEST
DTSTART:20250330T010000
END:DAYLIGHT
BEGIN:STANDARD
TZOFFSETFROM:+0200
TZOFFSETTO:+0100
TZNAME:CET
DTSTART:20251026T010000
END:STANDARD
BEGIN:DAYLIGHT
TZOFFSETFROM:+0100
TZOFFSETTO:+0200
TZNAME:CEST
DTSTART:20260329T010000
END:DAYLIGHT
BEGIN:STANDARD
TZOFFSETFROM:+0200
TZOFFSETTO:+0100
TZNAME:CET
DTSTART:20261025T010000
END:STANDARD
END:VTIMEZONE
BEGIN:VEVENT
DTSTART;TZID=Europe/Paris:20250502T100000
DTEND;TZID=Europe/Paris:20250602T183000
DTSTAMP:20260422T163516
CREATED:20241217T210956Z
LAST-MODIFIED:20241217T210956Z
UID:107029-1746180000-1748889000@actu.art
SUMMARY:Exposition de sculptures organisé par le diocèse
DESCRIPTION:L’Association « Auffay Art & Culture » et le diocèse de Val-de-Scie vous donne rendez-vous à la Collégiale d’Auffay pour son rendez-vous « Sculpture ».
URL:https://actu.art/event/exposition-de-sculptures-organise-par-le-diocese/
LOCATION:Collégiale d’Auffay\, Place du Général de Gaulle 2\, Val-de-Scie\, Seine-Maritime\, 76720\, France
CATEGORIES:Expositions
ATTACH;FMTTYPE=image/jpeg:https://actu.art/wp-content/uploads/2024/12/Exposition_de_sculptures_organise_par_le_diocese.jpg
GEO:49.7194298;1.0999193
X-APPLE-STRUCTURED-LOCATION;VALUE=URI;X-ADDRESS=Collégiale d’Auffay Place du Général de Gaulle 2 Val-de-Scie Seine-Maritime 76720 France;X-APPLE-RADIUS=500;X-TITLE=Place du Général de Gaulle 2:geo:1.0999193,49.7194298
END:VEVENT
END:VCALENDAR