BEGIN:VCALENDAR
VERSION:2.0
PRODID:-//Actu.Art - ECPv6.15.13//NONSGML v1.0//EN
CALSCALE:GREGORIAN
METHOD:PUBLISH
X-WR-CALNAME:Actu.Art
X-ORIGINAL-URL:https://actu.art
X-WR-CALDESC:Évènements pour Actu.Art
BEGIN:VTIMEZONE
TZID:Europe/Paris
BEGIN:DAYLIGHT
TZOFFSETFROM:+0100
TZOFFSETTO:+0200
TZNAME:CEST
DTSTART:20240331T010000
END:DAYLIGHT
BEGIN:STANDARD
TZOFFSETFROM:+0200
TZOFFSETTO:+0100
TZNAME:CET
DTSTART:20241027T010000
END:STANDARD
BEGIN:DAYLIGHT
TZOFFSETFROM:+0100
TZOFFSETTO:+0200
TZNAME:CEST
DTSTART:20250330T010000
END:DAYLIGHT
BEGIN:STANDARD
TZOFFSETFROM:+0200
TZOFFSETTO:+0100
TZNAME:CET
DTSTART:20251026T010000
END:STANDARD
BEGIN:DAYLIGHT
TZOFFSETFROM:+0100
TZOFFSETTO:+0200
TZNAME:CEST
DTSTART:20260329T010000
END:DAYLIGHT
BEGIN:STANDARD
TZOFFSETFROM:+0200
TZOFFSETTO:+0100
TZNAME:CET
DTSTART:20261025T010000
END:STANDARD
END:VTIMEZONE
BEGIN:VEVENT
DTSTART;TZID=Europe/Paris:20250801T150000
DTEND;TZID=Europe/Paris:20250831T190000
DTSTAMP:20260424T021339
CREATED:20250701T183149Z
LAST-MODIFIED:20250701T183149Z
UID:122401-1754060400-1756666800@actu.art
SUMMARY:Exposition de sculptures et dessins de François Leteuil
DESCRIPTION:Sculpture dans les marbres des Pyrénées\, dessins à l’encre de Chine. \nl y a une dizaine d’années\, je suis tombé en admiration devant les représentations en trois dimensions du corps féminin par nos ancêtres préhistoriques.\nLe choix des matériaux des époques néolithique et mésolithique (ivoire\, pierres\, os ou terre cuite); la grande diversité des formes pour exprimer la sensualité\, la fécondité ou le  pouvoir féminins est une expression artistique qui traverse les âges et a orienté d’illustres créateurs. (Giacometti et les Étrusques\, Picasso et l’art africain…) \nJe m’en inspire pour dessiner à l’encre de Chine et sculpter dans les marbres des Pyrénées des créations personnelles liées à cette esthétique. \nPour les dessins\, j’ai choisi d’utiliser l’encre de Chine et le papier qui sont des moyens d’expression anciens et simples\, comme les marbres pour mes sculptures.  \nJe cherche à m’inscrire consciemment et inconsciemment dans la continuité formelle de ces artistes inconnus et ainsi leur rendre hommage.
URL:https://actu.art/event/exposition-de-sculptures-et-dessins-de-francois-leteuil/
LOCATION:Atelier la Comète\, Grande Rue Pierre Bayle 23\, Carla-Bayle\, Ariège\, 09130\, France
CATEGORIES:Expositions
ATTACH;FMTTYPE=image/jpeg:https://actu.art/wp-content/uploads/2025/07/Exposition_de_sculptures_et_dessins_de_Francois_Leteuil.jpg
GEO:43.1500872;1.3936594
X-APPLE-STRUCTURED-LOCATION;VALUE=URI;X-ADDRESS=Atelier la Comète Grande Rue Pierre Bayle 23 Carla-Bayle Ariège 09130 France;X-APPLE-RADIUS=500;X-TITLE=Grande Rue Pierre Bayle 23:geo:1.3936594,43.1500872
END:VEVENT
END:VCALENDAR