BEGIN:VCALENDAR
VERSION:2.0
PRODID:-//Actu.Art - ECPv6.15.13//NONSGML v1.0//EN
CALSCALE:GREGORIAN
METHOD:PUBLISH
X-WR-CALNAME:Actu.Art
X-ORIGINAL-URL:https://actu.art
X-WR-CALDESC:Évènements pour Actu.Art
BEGIN:VTIMEZONE
TZID:Europe/Paris
BEGIN:DAYLIGHT
TZOFFSETFROM:+0100
TZOFFSETTO:+0200
TZNAME:CEST
DTSTART:20240331T010000
END:DAYLIGHT
BEGIN:STANDARD
TZOFFSETFROM:+0200
TZOFFSETTO:+0100
TZNAME:CET
DTSTART:20241027T010000
END:STANDARD
BEGIN:DAYLIGHT
TZOFFSETFROM:+0100
TZOFFSETTO:+0200
TZNAME:CEST
DTSTART:20250330T010000
END:DAYLIGHT
BEGIN:STANDARD
TZOFFSETFROM:+0200
TZOFFSETTO:+0100
TZNAME:CET
DTSTART:20251026T010000
END:STANDARD
BEGIN:DAYLIGHT
TZOFFSETFROM:+0100
TZOFFSETTO:+0200
TZNAME:CEST
DTSTART:20260329T010000
END:DAYLIGHT
BEGIN:STANDARD
TZOFFSETFROM:+0200
TZOFFSETTO:+0100
TZNAME:CET
DTSTART:20261025T010000
END:STANDARD
END:VTIMEZONE
BEGIN:VEVENT
DTSTART;TZID=Europe/Paris:20250501T100000
DTEND;TZID=Europe/Paris:20250928T190000
DTSTAMP:20260421T081054
CREATED:20250506T201009Z
LAST-MODIFIED:20250506T201009Z
UID:117045-1746093600-1759086000@actu.art
SUMMARY:Exposition de saison des Artistes Laonnois à Laon
DESCRIPTION:Juste à côté de la Porte d’Ardon à Laon\, vous ne pouvez pas les rater !
URL:https://actu.art/event/exposition-de-saison-des-artistes-laonnois-a-laon/
LOCATION:Rempart de la Couloire\, Laon\, Aisne\, 02000\, France
CATEGORIES:Expositions
GEO:49.564133;3.61989
END:VEVENT
END:VCALENDAR