BEGIN:VCALENDAR
VERSION:2.0
PRODID:-//Actu.Art - ECPv6.15.13//NONSGML v1.0//EN
CALSCALE:GREGORIAN
METHOD:PUBLISH
X-WR-CALNAME:Actu.Art
X-ORIGINAL-URL:https://actu.art
X-WR-CALDESC:Évènements pour Actu.Art
BEGIN:VTIMEZONE
TZID:Europe/Paris
BEGIN:DAYLIGHT
TZOFFSETFROM:+0100
TZOFFSETTO:+0200
TZNAME:CEST
DTSTART:20240331T010000
END:DAYLIGHT
BEGIN:STANDARD
TZOFFSETFROM:+0200
TZOFFSETTO:+0100
TZNAME:CET
DTSTART:20241027T010000
END:STANDARD
BEGIN:DAYLIGHT
TZOFFSETFROM:+0100
TZOFFSETTO:+0200
TZNAME:CEST
DTSTART:20250330T010000
END:DAYLIGHT
BEGIN:STANDARD
TZOFFSETFROM:+0200
TZOFFSETTO:+0100
TZNAME:CET
DTSTART:20251026T010000
END:STANDARD
BEGIN:DAYLIGHT
TZOFFSETFROM:+0100
TZOFFSETTO:+0200
TZNAME:CEST
DTSTART:20260329T010000
END:DAYLIGHT
BEGIN:STANDARD
TZOFFSETFROM:+0200
TZOFFSETTO:+0100
TZNAME:CET
DTSTART:20261025T010000
END:STANDARD
END:VTIMEZONE
BEGIN:VEVENT
DTSTART;TZID=Europe/Paris:20250805T100000
DTEND;TZID=Europe/Paris:20250817T183000
DTSTAMP:20260421T015932
CREATED:20250703T212954Z
LAST-MODIFIED:20250703T212954Z
UID:122564-1754388000-1755455400@actu.art
SUMMARY:Exposition "De rouille et de terre"
DESCRIPTION:Céramiques en raku d’Hélène Van Dongen et peintures inspirées par la rouille de Benoit de Senneville.\nSculptures en grès également présentées dans le parc.
URL:https://actu.art/event/exposition-de-rouille-et-de-terre/
LOCATION:Ancien réfectoire des moines\, Entrée par le Parc du château\, Carennac\, Lot\, 46110\, France
CATEGORIES:Expositions
ATTACH;FMTTYPE=image/jpeg:https://actu.art/wp-content/uploads/2025/07/Exposition_De_rouille_et_de_terre_.jpg
GEO:44.917775;1.73248
X-APPLE-STRUCTURED-LOCATION;VALUE=URI;X-ADDRESS=Ancien réfectoire des moines Entrée par le Parc du château Carennac Lot 46110 France;X-APPLE-RADIUS=500;X-TITLE=Entrée par le Parc du château:geo:1.73248,44.917775
END:VEVENT
END:VCALENDAR