BEGIN:VCALENDAR
VERSION:2.0
PRODID:-//Actu.Art - ECPv6.15.13//NONSGML v1.0//EN
CALSCALE:GREGORIAN
METHOD:PUBLISH
X-WR-CALNAME:Actu.Art
X-ORIGINAL-URL:https://actu.art
X-WR-CALDESC:Évènements pour Actu.Art
BEGIN:VTIMEZONE
TZID:Europe/Paris
BEGIN:DAYLIGHT
TZOFFSETFROM:+0100
TZOFFSETTO:+0200
TZNAME:CEST
DTSTART:20240331T010000
END:DAYLIGHT
BEGIN:STANDARD
TZOFFSETFROM:+0200
TZOFFSETTO:+0100
TZNAME:CET
DTSTART:20241027T010000
END:STANDARD
BEGIN:DAYLIGHT
TZOFFSETFROM:+0100
TZOFFSETTO:+0200
TZNAME:CEST
DTSTART:20250330T010000
END:DAYLIGHT
BEGIN:STANDARD
TZOFFSETFROM:+0200
TZOFFSETTO:+0100
TZNAME:CET
DTSTART:20251026T010000
END:STANDARD
BEGIN:DAYLIGHT
TZOFFSETFROM:+0100
TZOFFSETTO:+0200
TZNAME:CEST
DTSTART:20260329T010000
END:DAYLIGHT
BEGIN:STANDARD
TZOFFSETFROM:+0200
TZOFFSETTO:+0100
TZNAME:CET
DTSTART:20261025T010000
END:STANDARD
END:VTIMEZONE
BEGIN:VEVENT
DTSTART;TZID=Europe/Paris:20250804T150000
DTEND;TZID=Europe/Paris:20250810T180000
DTSTAMP:20260420T210803
CREATED:20250625T181533Z
LAST-MODIFIED:20250625T181533Z
UID:121999-1754319600-1754848800@actu.art
SUMMARY:Exposition de peintures : "Toujours vivants"\, Lot Paintings and Still Life par Hilary et John HOYLAND -
DESCRIPTION:Exposition conjointe des artistes Hilary et John Hoyland dans la salle capitulaire de l’abbaye de Marcilhac. Œuvres picturales et gravures autour du thème du vivant.\nJohn et Hilary HOYLAND forment un partenariat artistique unique. Leurs œuvres vibrantes évoluent en parallèle et se prêtent à des expositions conjointes\, telle celle qu’ils proposent cet été dans la salle capitulaire de l’ancienne abbaye.\nHilary HOYLAND propose des petits formats\, dessins\, gravures et peintures dans un espace de la salle simulant son atelier. Ses assemblages raffinés d’objets familiers traduisent son rapport sensuel à la matière\, dans un climat de gaieté et de légèreté.\nLes peintures grands formats de John HOYLAND procurent une immersion immédiate dans les paysages de sa région d’adoption: baignade dans les eaux claires du Célé\, randonnée sur les causses dans la chaleur de l’été ou vue dominante sur du Lot. Ses cadrages révèlent une maitrise pour capter\nla lumière sur des panoramas « habités ».
URL:https://actu.art/event/exposition-de-peintures-toujours-vivants-lot-paintings-and-still-life-par-hilary-et-john-hoyland/
LOCATION:Salle Capitulaire de l’Abbaye de Marcilhac-sur-Célé\, Marcilhac-sur-Célé\, Lot\, 46160
CATEGORIES:Expositions
ATTACH;FMTTYPE=image/jpeg:https://actu.art/wp-content/uploads/2025/06/Exposition_de_peintures_Toujours_vivants_Lot_Paintings_and_Still_Life_par_Hilary_et_John_HOYLAND_.jpg
END:VEVENT
END:VCALENDAR