BEGIN:VCALENDAR
VERSION:2.0
PRODID:-//Actu.Art - ECPv6.15.13//NONSGML v1.0//EN
CALSCALE:GREGORIAN
METHOD:PUBLISH
X-WR-CALNAME:Actu.Art
X-ORIGINAL-URL:https://actu.art
X-WR-CALDESC:Évènements pour Actu.Art
BEGIN:VTIMEZONE
TZID:Europe/Paris
BEGIN:DAYLIGHT
TZOFFSETFROM:+0100
TZOFFSETTO:+0200
TZNAME:CEST
DTSTART:20240331T010000
END:DAYLIGHT
BEGIN:STANDARD
TZOFFSETFROM:+0200
TZOFFSETTO:+0100
TZNAME:CET
DTSTART:20241027T010000
END:STANDARD
BEGIN:DAYLIGHT
TZOFFSETFROM:+0100
TZOFFSETTO:+0200
TZNAME:CEST
DTSTART:20250330T010000
END:DAYLIGHT
BEGIN:STANDARD
TZOFFSETFROM:+0200
TZOFFSETTO:+0100
TZNAME:CET
DTSTART:20251026T010000
END:STANDARD
BEGIN:DAYLIGHT
TZOFFSETFROM:+0100
TZOFFSETTO:+0200
TZNAME:CEST
DTSTART:20260329T010000
END:DAYLIGHT
BEGIN:STANDARD
TZOFFSETFROM:+0200
TZOFFSETTO:+0100
TZNAME:CET
DTSTART:20261025T010000
END:STANDARD
END:VTIMEZONE
BEGIN:VEVENT
DTSTART;TZID=Europe/Paris:20250701T110000
DTEND;TZID=Europe/Paris:20250711T190000
DTSTAMP:20260422T132617
CREATED:20250225T191622Z
LAST-MODIFIED:20250225T191622Z
UID:110042-1751367600-1752260400@actu.art
SUMMARY:Exposition de peintures > Nervures\, entrelacs.
DESCRIPTION:Exposition de peinture :\nLes entrelacs des racines\, les treillis des rhizomes\, les symbioses des mycorhizes\, les entrelacements des troncs\, des branches et des rameaux\, le grain et les veines du bois\, la rugosité et les nervures de la pierre\, les flots des sources émergentes\, tous les labyrinthes\, les flux et les textures d’un monde pensé au-delà du visible… Tout cela surgit dans les œuvres (grands panneaux\, toiles\, œuvres sur papier) que présentent Patrice Godefroy et Philippe Lefebvre dans la chapelle du château de Saint-Sauveur-le-Vicomte.
URL:https://actu.art/event/exposition-de-peintures-nervures-entrelacs/
LOCATION:Château de Saint-Sauveur-le-Vicomte\, Rue Barbey d'Aurevilly 18\, Saint-Sauveur-le-Vicomte\, Manche\, 50390\, France
CATEGORIES:Expositions
ATTACH;FMTTYPE=image/jpeg:https://actu.art/wp-content/uploads/2025/02/Exposition_de_peintures_Nervures_entrelacs_.jpg
GEO:49.3864646;-1.5291106
X-APPLE-STRUCTURED-LOCATION;VALUE=URI;X-ADDRESS=Château de Saint-Sauveur-le-Vicomte Rue Barbey d'Aurevilly 18 Saint-Sauveur-le-Vicomte Manche 50390 France;X-APPLE-RADIUS=500;X-TITLE=Rue Barbey d'Aurevilly 18:geo:-1.5291106,49.3864646
END:VEVENT
END:VCALENDAR