BEGIN:VCALENDAR
VERSION:2.0
PRODID:-//Actu.Art - ECPv6.15.13//NONSGML v1.0//EN
CALSCALE:GREGORIAN
METHOD:PUBLISH
X-WR-CALNAME:Actu.Art
X-ORIGINAL-URL:https://actu.art
X-WR-CALDESC:Évènements pour Actu.Art
BEGIN:VTIMEZONE
TZID:Europe/Paris
BEGIN:DAYLIGHT
TZOFFSETFROM:+0100
TZOFFSETTO:+0200
TZNAME:CEST
DTSTART:20240331T010000
END:DAYLIGHT
BEGIN:STANDARD
TZOFFSETFROM:+0200
TZOFFSETTO:+0100
TZNAME:CET
DTSTART:20241027T010000
END:STANDARD
BEGIN:DAYLIGHT
TZOFFSETFROM:+0100
TZOFFSETTO:+0200
TZNAME:CEST
DTSTART:20250330T010000
END:DAYLIGHT
BEGIN:STANDARD
TZOFFSETFROM:+0200
TZOFFSETTO:+0100
TZNAME:CET
DTSTART:20251026T010000
END:STANDARD
BEGIN:DAYLIGHT
TZOFFSETFROM:+0100
TZOFFSETTO:+0200
TZNAME:CEST
DTSTART:20260329T010000
END:DAYLIGHT
BEGIN:STANDARD
TZOFFSETFROM:+0200
TZOFFSETTO:+0100
TZNAME:CET
DTSTART:20261025T010000
END:STANDARD
END:VTIMEZONE
BEGIN:VEVENT
DTSTART;TZID=Europe/Paris:20250721T150000
DTEND;TZID=Europe/Paris:20250727T190000
DTSTAMP:20260421T190052
CREATED:20250629T210228Z
LAST-MODIFIED:20250629T210228Z
UID:122227-1753110000-1753642800@actu.art
SUMMARY:Exposition de peintures : Nathalie Travaillard
DESCRIPTION:Exposition de peintures : Nathalie Travaillard\, RDV au château de Regnéville-sur-Mer. Entrée gratuite.
URL:https://actu.art/event/exposition-de-peintures-nathalie-travaillard/
LOCATION:Chateau de Regneville\, 3 Route des Fours à Chaux\, Regnéville sur Mer\, Manche\, 50590\, France
CATEGORIES:Expositions
ATTACH;FMTTYPE=image/jpeg:https://actu.art/wp-content/uploads/2025/06/Exposition_de_peintures_Nathalie_Travaillard.jpg
GEO:49.0075566;-1.5533784
X-APPLE-STRUCTURED-LOCATION;VALUE=URI;X-ADDRESS=Chateau de Regneville 3 Route des Fours à Chaux Regnéville sur Mer Manche 50590 France;X-APPLE-RADIUS=500;X-TITLE=3 Route des Fours à Chaux:geo:-1.5533784,49.0075566
END:VEVENT
END:VCALENDAR