BEGIN:VCALENDAR
VERSION:2.0
PRODID:-//Actu.Art - ECPv6.15.13//NONSGML v1.0//EN
CALSCALE:GREGORIAN
METHOD:PUBLISH
X-WR-CALNAME:Actu.Art
X-ORIGINAL-URL:https://actu.art
X-WR-CALDESC:Évènements pour Actu.Art
BEGIN:VTIMEZONE
TZID:Europe/Paris
BEGIN:DAYLIGHT
TZOFFSETFROM:+0100
TZOFFSETTO:+0200
TZNAME:CEST
DTSTART:20240331T010000
END:DAYLIGHT
BEGIN:STANDARD
TZOFFSETFROM:+0200
TZOFFSETTO:+0100
TZNAME:CET
DTSTART:20241027T010000
END:STANDARD
BEGIN:DAYLIGHT
TZOFFSETFROM:+0100
TZOFFSETTO:+0200
TZNAME:CEST
DTSTART:20250330T010000
END:DAYLIGHT
BEGIN:STANDARD
TZOFFSETFROM:+0200
TZOFFSETTO:+0100
TZNAME:CET
DTSTART:20251026T010000
END:STANDARD
BEGIN:DAYLIGHT
TZOFFSETFROM:+0100
TZOFFSETTO:+0200
TZNAME:CEST
DTSTART:20260329T010000
END:DAYLIGHT
BEGIN:STANDARD
TZOFFSETFROM:+0200
TZOFFSETTO:+0100
TZNAME:CET
DTSTART:20261025T010000
END:STANDARD
END:VTIMEZONE
BEGIN:VEVENT
DTSTART;TZID=Europe/Paris:20250501T110000
DTEND;TZID=Europe/Paris:20250504T183000
DTSTAMP:20260421T091928
CREATED:20250401T200752Z
LAST-MODIFIED:20250401T200752Z
UID:113160-1746097200-1746383400@actu.art
SUMMARY:Exposition de peintures : Marées et Marais
DESCRIPTION:Week-end découverte\, des paysages de notre région. \nEXPOSITION MAREES ET MARAIS. \nCe thème réunit 12 artistes aux techniques différentes.\nAquarelle\, broderie\, gravure\, peinture\, photographie.\nles artistes seront heureux d’échanger leur savoir faire avec vous à la salle communale de Fresville.
URL:https://actu.art/event/exposition-de-peintures-marees-et-marais/
LOCATION:Salle communale de Fresville\, Fresville\, Manche\, 50310
CATEGORIES:Expositions
END:VEVENT
END:VCALENDAR