BEGIN:VCALENDAR
VERSION:2.0
PRODID:-//Actu.Art - ECPv6.15.13//NONSGML v1.0//EN
CALSCALE:GREGORIAN
METHOD:PUBLISH
X-WR-CALNAME:Actu.Art
X-ORIGINAL-URL:https://actu.art
X-WR-CALDESC:Évènements pour Actu.Art
BEGIN:VTIMEZONE
TZID:Europe/Paris
BEGIN:DAYLIGHT
TZOFFSETFROM:+0100
TZOFFSETTO:+0200
TZNAME:CEST
DTSTART:20250330T010000
END:DAYLIGHT
BEGIN:STANDARD
TZOFFSETFROM:+0200
TZOFFSETTO:+0100
TZNAME:CET
DTSTART:20251026T010000
END:STANDARD
BEGIN:DAYLIGHT
TZOFFSETFROM:+0100
TZOFFSETTO:+0200
TZNAME:CEST
DTSTART:20260329T010000
END:DAYLIGHT
BEGIN:STANDARD
TZOFFSETFROM:+0200
TZOFFSETTO:+0100
TZNAME:CET
DTSTART:20261025T010000
END:STANDARD
BEGIN:DAYLIGHT
TZOFFSETFROM:+0100
TZOFFSETTO:+0200
TZNAME:CEST
DTSTART:20270328T010000
END:DAYLIGHT
BEGIN:STANDARD
TZOFFSETFROM:+0200
TZOFFSETTO:+0100
TZNAME:CET
DTSTART:20271031T010000
END:STANDARD
END:VTIMEZONE
BEGIN:VEVENT
DTSTART;TZID=Europe/Paris:20260425T143000
DTEND;TZID=Europe/Paris:20260503T183000
DTSTAMP:20260422T154932
CREATED:20260421T164047Z
LAST-MODIFIED:20260421T164047Z
UID:143903-1777127400-1777833000@actu.art
SUMMARY:Exposition de peintures - Mali Benham
DESCRIPTION:L’imaginaire  de Mali Benham a été nourri par la tradition orale des contes et légendes finalement très universels.\nLa peinture acrylique et les techniques mixtes sont mes terrains d’exploration\, entre abstraction et réalisme-abstrait.
URL:https://actu.art/event/exposition-de-peintures-mali-benham/
LOCATION:Cloître des Carmes\, 37 rue des carmes\, Jonzac\, Charente-Maritime\, 17500\, France
CATEGORIES:Expositions
GEO:45.4425991;-0.4350421
X-APPLE-STRUCTURED-LOCATION;VALUE=URI;X-ADDRESS=Cloître des Carmes 37 rue des carmes Jonzac Charente-Maritime 17500 France;X-APPLE-RADIUS=500;X-TITLE=37 rue des carmes:geo:-0.4350421,45.4425991
END:VEVENT
END:VCALENDAR