BEGIN:VCALENDAR
VERSION:2.0
PRODID:-//Actu.Art - ECPv6.15.13//NONSGML v1.0//EN
CALSCALE:GREGORIAN
METHOD:PUBLISH
X-WR-CALNAME:Actu.Art
X-ORIGINAL-URL:https://actu.art
X-WR-CALDESC:Évènements pour Actu.Art
BEGIN:VTIMEZONE
TZID:Europe/Paris
BEGIN:DAYLIGHT
TZOFFSETFROM:+0100
TZOFFSETTO:+0200
TZNAME:CEST
DTSTART:20250330T010000
END:DAYLIGHT
BEGIN:STANDARD
TZOFFSETFROM:+0200
TZOFFSETTO:+0100
TZNAME:CET
DTSTART:20251026T010000
END:STANDARD
BEGIN:DAYLIGHT
TZOFFSETFROM:+0100
TZOFFSETTO:+0200
TZNAME:CEST
DTSTART:20260329T010000
END:DAYLIGHT
BEGIN:STANDARD
TZOFFSETFROM:+0200
TZOFFSETTO:+0100
TZNAME:CET
DTSTART:20261025T010000
END:STANDARD
BEGIN:DAYLIGHT
TZOFFSETFROM:+0100
TZOFFSETTO:+0200
TZNAME:CEST
DTSTART:20270328T010000
END:DAYLIGHT
BEGIN:STANDARD
TZOFFSETFROM:+0200
TZOFFSETTO:+0100
TZNAME:CET
DTSTART:20271031T010000
END:STANDARD
END:VTIMEZONE
BEGIN:VEVENT
DTSTART;VALUE=DATE:20260718
DTEND;VALUE=DATE:20260805
DTSTAMP:20260421T132416
CREATED:20260416T062503Z
LAST-MODIFIED:20260416T062503Z
UID:143208-1784332800-1785887999@actu.art
SUMMARY:Exposition de peintures – Jean-Louis Bonamy
DESCRIPTION:Jean-Louis Bonamy\, peintre installé à Saint-Denis-d’Oléron\, expose au château de Bonnemie. Entre maîtrise technique et abstraction épurée\, son œuvre explore une écriture picturale libre\, nourrie de plus de 45 ans de création.
URL:https://actu.art/event/exposition-de-peintures-jean-louis-bonamy/
LOCATION:Château de Bonnemie\, 35 avenue de Bonnemie\, Saint-Pierre-d'Oléron\, Charente-Maritime\, 17310
CATEGORIES:Expositions
END:VEVENT
END:VCALENDAR