BEGIN:VCALENDAR
VERSION:2.0
PRODID:-//Actu.Art - ECPv6.15.13//NONSGML v1.0//EN
CALSCALE:GREGORIAN
METHOD:PUBLISH
X-WR-CALNAME:Actu.Art
X-ORIGINAL-URL:https://actu.art
X-WR-CALDESC:Évènements pour Actu.Art
BEGIN:VTIMEZONE
TZID:Europe/Paris
BEGIN:DAYLIGHT
TZOFFSETFROM:+0100
TZOFFSETTO:+0200
TZNAME:CEST
DTSTART:20240331T010000
END:DAYLIGHT
BEGIN:STANDARD
TZOFFSETFROM:+0200
TZOFFSETTO:+0100
TZNAME:CET
DTSTART:20241027T010000
END:STANDARD
BEGIN:DAYLIGHT
TZOFFSETFROM:+0100
TZOFFSETTO:+0200
TZNAME:CEST
DTSTART:20250330T010000
END:DAYLIGHT
BEGIN:STANDARD
TZOFFSETFROM:+0200
TZOFFSETTO:+0100
TZNAME:CET
DTSTART:20251026T010000
END:STANDARD
BEGIN:DAYLIGHT
TZOFFSETFROM:+0100
TZOFFSETTO:+0200
TZNAME:CEST
DTSTART:20260329T010000
END:DAYLIGHT
BEGIN:STANDARD
TZOFFSETFROM:+0200
TZOFFSETTO:+0100
TZNAME:CET
DTSTART:20261025T010000
END:STANDARD
END:VTIMEZONE
BEGIN:VEVENT
DTSTART;VALUE=DATE:20250630
DTEND;VALUE=DATE:20250707
DTSTAMP:20260421T132815
CREATED:20250613T131541Z
LAST-MODIFIED:20250613T131541Z
UID:119989-1751241600-1751846399@actu.art
SUMMARY:Exposition de peintures – Florence MOLIA
DESCRIPTION:De nombreux artistes se succèdent cabane 14 d’Avril à Octobre
URL:https://actu.art/event/exposition-de-peintures-florence-molia/
LOCATION:Cabane N°14\, rue du Fort Pâté\, Le Château-d'Oléron\, Charente-Maritime\, 17480\, France
CATEGORIES:Expositions
GEO:45.8828651;-1.1941252
X-APPLE-STRUCTURED-LOCATION;VALUE=URI;X-ADDRESS=Cabane N°14 rue du Fort Pâté Le Château-d'Oléron Charente-Maritime 17480 France;X-APPLE-RADIUS=500;X-TITLE=rue du Fort Pâté:geo:-1.1941252,45.8828651
END:VEVENT
END:VCALENDAR