BEGIN:VCALENDAR
VERSION:2.0
PRODID:-//Actu.Art - ECPv6.15.13//NONSGML v1.0//EN
CALSCALE:GREGORIAN
METHOD:PUBLISH
X-WR-CALNAME:Actu.Art
X-ORIGINAL-URL:https://actu.art
X-WR-CALDESC:Évènements pour Actu.Art
BEGIN:VTIMEZONE
TZID:Europe/Paris
BEGIN:DAYLIGHT
TZOFFSETFROM:+0100
TZOFFSETTO:+0200
TZNAME:CEST
DTSTART:20240331T010000
END:DAYLIGHT
BEGIN:STANDARD
TZOFFSETFROM:+0200
TZOFFSETTO:+0100
TZNAME:CET
DTSTART:20241027T010000
END:STANDARD
BEGIN:DAYLIGHT
TZOFFSETFROM:+0100
TZOFFSETTO:+0200
TZNAME:CEST
DTSTART:20250330T010000
END:DAYLIGHT
BEGIN:STANDARD
TZOFFSETFROM:+0200
TZOFFSETTO:+0100
TZNAME:CET
DTSTART:20251026T010000
END:STANDARD
BEGIN:DAYLIGHT
TZOFFSETFROM:+0100
TZOFFSETTO:+0200
TZNAME:CEST
DTSTART:20260329T010000
END:DAYLIGHT
BEGIN:STANDARD
TZOFFSETFROM:+0200
TZOFFSETTO:+0100
TZNAME:CET
DTSTART:20261025T010000
END:STANDARD
END:VTIMEZONE
BEGIN:VEVENT
DTSTART;TZID=Europe/Paris:20250801T103000
DTEND;TZID=Europe/Paris:20250807T183000
DTSTAMP:20260423T174813
CREATED:20250608T222947Z
LAST-MODIFIED:20250608T222947Z
UID:120369-1754044200-1754591400@actu.art
SUMMARY:Exposition de peintures et céramiques
DESCRIPTION:Cette semaine venez découvrir les peintures de Josette Bord (aquarelles)\, Marlène Fieremans (aquarelles) et Fanny Campas-Dragon (céramiques) \nExposition ouverte de 10h30 à 12h30 et de 14h30 à 18h30.
URL:https://actu.art/event/exposition-de-peintures-et-ceramiques/
LOCATION:Eglise de Valette\, Lieu-dit Valette\, Lougratte\, Lot-et-Garonne\, 47290\, France
CATEGORIES:Expositions
GEO:44.608125;0.63514
X-APPLE-STRUCTURED-LOCATION;VALUE=URI;X-ADDRESS=Eglise de Valette Lieu-dit Valette Lougratte Lot-et-Garonne 47290 France;X-APPLE-RADIUS=500;X-TITLE=Lieu-dit Valette:geo:0.63514,44.608125
END:VEVENT
END:VCALENDAR