BEGIN:VCALENDAR
VERSION:2.0
PRODID:-//Actu.Art - ECPv6.15.13//NONSGML v1.0//EN
CALSCALE:GREGORIAN
METHOD:PUBLISH
X-WR-CALNAME:Actu.Art
X-ORIGINAL-URL:https://actu.art
X-WR-CALDESC:Évènements pour Actu.Art
BEGIN:VTIMEZONE
TZID:Europe/Paris
BEGIN:DAYLIGHT
TZOFFSETFROM:+0100
TZOFFSETTO:+0200
TZNAME:CEST
DTSTART:20240331T010000
END:DAYLIGHT
BEGIN:STANDARD
TZOFFSETFROM:+0200
TZOFFSETTO:+0100
TZNAME:CET
DTSTART:20241027T010000
END:STANDARD
BEGIN:DAYLIGHT
TZOFFSETFROM:+0100
TZOFFSETTO:+0200
TZNAME:CEST
DTSTART:20250330T010000
END:DAYLIGHT
BEGIN:STANDARD
TZOFFSETFROM:+0200
TZOFFSETTO:+0100
TZNAME:CET
DTSTART:20251026T010000
END:STANDARD
BEGIN:DAYLIGHT
TZOFFSETFROM:+0100
TZOFFSETTO:+0200
TZNAME:CEST
DTSTART:20260329T010000
END:DAYLIGHT
BEGIN:STANDARD
TZOFFSETFROM:+0200
TZOFFSETTO:+0100
TZNAME:CET
DTSTART:20261025T010000
END:STANDARD
END:VTIMEZONE
BEGIN:VEVENT
DTSTART;TZID=Europe/Paris:20250502T093000
DTEND;TZID=Europe/Paris:20250630T190000
DTSTAMP:20260420T211351
CREATED:20250522T100218Z
LAST-MODIFIED:20250522T100218Z
UID:118542-1746178200-1751310000@actu.art
SUMMARY:Exposition de peintures du peintre croqueur Lucas-Faytre
DESCRIPTION:Thème : « Big-bands »
URL:https://actu.art/event/exposition-de-peintures-du-peintre-croqueur-lucas-faytre/
LOCATION:Saujon\, Librairie Lignes d'horizons 14 place du Général de Gaulle\, Saujon\, Charente-Maritime\, 17600\, France
CATEGORIES:Expositions
GEO:45.6760182;-0.9235706
X-APPLE-STRUCTURED-LOCATION;VALUE=URI;X-ADDRESS=Saujon Librairie Lignes d'horizons 14 place du Général de Gaulle Saujon Charente-Maritime 17600 France;X-APPLE-RADIUS=500;X-TITLE=Librairie Lignes d'horizons 14 place du Général de Gaulle:geo:-0.9235706,45.6760182
END:VEVENT
END:VCALENDAR