BEGIN:VCALENDAR
VERSION:2.0
PRODID:-//Actu.Art - ECPv6.15.13//NONSGML v1.0//EN
CALSCALE:GREGORIAN
METHOD:PUBLISH
X-WR-CALNAME:Actu.Art
X-ORIGINAL-URL:https://actu.art
X-WR-CALDESC:Évènements pour Actu.Art
BEGIN:VTIMEZONE
TZID:Europe/Paris
BEGIN:DAYLIGHT
TZOFFSETFROM:+0100
TZOFFSETTO:+0200
TZNAME:CEST
DTSTART:20240331T010000
END:DAYLIGHT
BEGIN:STANDARD
TZOFFSETFROM:+0200
TZOFFSETTO:+0100
TZNAME:CET
DTSTART:20241027T010000
END:STANDARD
BEGIN:DAYLIGHT
TZOFFSETFROM:+0100
TZOFFSETTO:+0200
TZNAME:CEST
DTSTART:20250330T010000
END:DAYLIGHT
BEGIN:STANDARD
TZOFFSETFROM:+0200
TZOFFSETTO:+0100
TZNAME:CET
DTSTART:20251026T010000
END:STANDARD
BEGIN:DAYLIGHT
TZOFFSETFROM:+0100
TZOFFSETTO:+0200
TZNAME:CEST
DTSTART:20260329T010000
END:DAYLIGHT
BEGIN:STANDARD
TZOFFSETFROM:+0200
TZOFFSETTO:+0100
TZNAME:CET
DTSTART:20261025T010000
END:STANDARD
END:VTIMEZONE
BEGIN:VEVENT
DTSTART;TZID=Europe/Paris:20250403T093000
DTEND;TZID=Europe/Paris:20250515T173000
DTSTAMP:20260423T003756
CREATED:20250328T143219Z
LAST-MODIFIED:20250328T143219Z
UID:112923-1743672600-1747330200@actu.art
SUMMARY:Exposition de peintures de Valérie Guesnay
DESCRIPTION:Venez admirer les peintures à l’huile et acryliques de Valérie
URL:https://actu.art/event/exposition-de-peintures-de-valerie-guesnay/
LOCATION:Office de tourisme – Bureau d’Evron\, Place de la Basilique\, Évron\, Mayenne\, 53600\, France
CATEGORIES:Expositions
GEO:48.155915;-0.402887
X-APPLE-STRUCTURED-LOCATION;VALUE=URI;X-ADDRESS=Office de tourisme – Bureau d’Evron Place de la Basilique Évron Mayenne 53600 France;X-APPLE-RADIUS=500;X-TITLE=Place de la Basilique:geo:-0.402887,48.155915
END:VEVENT
END:VCALENDAR