BEGIN:VCALENDAR
VERSION:2.0
PRODID:-//Actu.Art - ECPv6.15.13//NONSGML v1.0//EN
CALSCALE:GREGORIAN
METHOD:PUBLISH
X-WR-CALNAME:Actu.Art
X-ORIGINAL-URL:https://actu.art
X-WR-CALDESC:Évènements pour Actu.Art
BEGIN:VTIMEZONE
TZID:Europe/Paris
BEGIN:DAYLIGHT
TZOFFSETFROM:+0100
TZOFFSETTO:+0200
TZNAME:CEST
DTSTART:20240331T010000
END:DAYLIGHT
BEGIN:STANDARD
TZOFFSETFROM:+0200
TZOFFSETTO:+0100
TZNAME:CET
DTSTART:20241027T010000
END:STANDARD
BEGIN:DAYLIGHT
TZOFFSETFROM:+0100
TZOFFSETTO:+0200
TZNAME:CEST
DTSTART:20250330T010000
END:DAYLIGHT
BEGIN:STANDARD
TZOFFSETFROM:+0200
TZOFFSETTO:+0100
TZNAME:CET
DTSTART:20251026T010000
END:STANDARD
BEGIN:DAYLIGHT
TZOFFSETFROM:+0100
TZOFFSETTO:+0200
TZNAME:CEST
DTSTART:20260329T010000
END:DAYLIGHT
BEGIN:STANDARD
TZOFFSETFROM:+0200
TZOFFSETTO:+0100
TZNAME:CET
DTSTART:20261025T010000
END:STANDARD
END:VTIMEZONE
BEGIN:VEVENT
DTSTART;VALUE=DATE:20250505
DTEND;VALUE=DATE:20250902
DTSTAMP:20260423T090146
CREATED:20250910T220714Z
LAST-MODIFIED:20250910T220714Z
UID:127206-1746403200-1756771199@actu.art
SUMMARY:Exposition de peintures de Mme Serres
DESCRIPTION:Exposition de peintures abstraites de Mme Serres à l’office de tourisme :\n« Intéressée depuis toujours par le travail manuel artistique\, mon attirance s’est dirigée vers la\npeinture et les arts plastique. Cet intérêt est resté longtemps sur le plan intellectuel sans\npassage à l’acte\, car je trouvais cela inaccessible pour moi.\nC’est sur le tard que je me suis décidée à agir afin d’apprendre et de comprendre les\ntechniques\, puis à « OSER FAIRE » et « OSER MONTRER ».\nDans le cadre de cours du soir avec un professeur des beaux-arts par le biais de mon\nentreprise\, j’ai pu acquérir des bases solides de dessin et de peinture\, que j’ai complétées\npar des recherches personnelles et des formations complémentaires.\nJe continue à chercher\, à développer et approfondir ce processus créatif\, chaque fois\nsurprenant\, qui occupe l’esprit tout en demandant un lâcher prise. »
URL:https://actu.art/event/exposition-de-peintures-de-mme-serres/
LOCATION:Office de tourisme de Cadillac\, 2 rue du Cros\, Cadillac\, Gironde\, 33410\, France
CATEGORIES:Expositions
ATTACH;FMTTYPE=image/jpeg:https://actu.art/wp-content/uploads/2025/08/Exposition_de_peintures_de_Mme_Serres.jpg
GEO:44.6366006;-0.3204393
X-APPLE-STRUCTURED-LOCATION;VALUE=URI;X-ADDRESS=Office de tourisme de Cadillac 2 rue du Cros Cadillac Gironde 33410 France;X-APPLE-RADIUS=500;X-TITLE=2 rue du Cros:geo:-0.3204393,44.6366006
END:VEVENT
END:VCALENDAR