BEGIN:VCALENDAR
VERSION:2.0
PRODID:-//Actu.Art - ECPv6.15.13//NONSGML v1.0//EN
CALSCALE:GREGORIAN
METHOD:PUBLISH
X-WR-CALNAME:Actu.Art
X-ORIGINAL-URL:https://actu.art
X-WR-CALDESC:Évènements pour Actu.Art
BEGIN:VTIMEZONE
TZID:Europe/Paris
BEGIN:DAYLIGHT
TZOFFSETFROM:+0100
TZOFFSETTO:+0200
TZNAME:CEST
DTSTART:20240331T010000
END:DAYLIGHT
BEGIN:STANDARD
TZOFFSETFROM:+0200
TZOFFSETTO:+0100
TZNAME:CET
DTSTART:20241027T010000
END:STANDARD
BEGIN:DAYLIGHT
TZOFFSETFROM:+0100
TZOFFSETTO:+0200
TZNAME:CEST
DTSTART:20250330T010000
END:DAYLIGHT
BEGIN:STANDARD
TZOFFSETFROM:+0200
TZOFFSETTO:+0100
TZNAME:CET
DTSTART:20251026T010000
END:STANDARD
BEGIN:DAYLIGHT
TZOFFSETFROM:+0100
TZOFFSETTO:+0200
TZNAME:CEST
DTSTART:20260329T010000
END:DAYLIGHT
BEGIN:STANDARD
TZOFFSETFROM:+0200
TZOFFSETTO:+0100
TZNAME:CET
DTSTART:20261025T010000
END:STANDARD
END:VTIMEZONE
BEGIN:VEVENT
DTSTART;TZID=Europe/Paris:20250720T100000
DTEND;TZID=Europe/Paris:20250831T190000
DTSTAMP:20260419T155255
CREATED:20250720T165445Z
LAST-MODIFIED:20250720T165445Z
UID:124339-1753005600-1756666800@actu.art
SUMMARY:Exposition de Peintures
DESCRIPTION:Antoine Soubrane vous présente ses peintures au Pôle Culturel de Meymac jusqu’au 31 Août 2025 .\nEspace d’exposition situé dans les jardins de l’ Abbaye Saint André .\nRenseignements et R.D.V. au n° DE Tél. suivant : 06 20 11 98 90 .\nhttps://www.jds.fr/medias/image/exposition-constructions-utopiques-520312-920-0-F.webp
URL:https://actu.art/event/exposition-de-peintures-76/
LOCATION:Pôle  Culturel  – Clau  del  Pais\, 1 Place de l' Eglise\, Meymac \, Corrèze\, 19250\, France
CATEGORIES:Expositions
ATTACH;FMTTYPE=image/jpeg:https://actu.art/wp-content/uploads/2025/07/AFFICHE-MEYMAC-INSERTION.jpg
GEO:45.5350257;2.1479572
X-APPLE-STRUCTURED-LOCATION;VALUE=URI;X-ADDRESS=Pôle  Culturel  – Clau  del  Pais 1 Place de l' Eglise Meymac  Corrèze 19250 France;X-APPLE-RADIUS=500;X-TITLE=1 Place de l' Eglise:geo:2.1479572,45.5350257
END:VEVENT
END:VCALENDAR