BEGIN:VCALENDAR
VERSION:2.0
PRODID:-//Actu.Art - ECPv6.15.13//NONSGML v1.0//EN
CALSCALE:GREGORIAN
METHOD:PUBLISH
X-WR-CALNAME:Actu.Art
X-ORIGINAL-URL:https://actu.art
X-WR-CALDESC:Évènements pour Actu.Art
BEGIN:VTIMEZONE
TZID:Europe/Paris
BEGIN:DAYLIGHT
TZOFFSETFROM:+0100
TZOFFSETTO:+0200
TZNAME:CEST
DTSTART:20250330T010000
END:DAYLIGHT
BEGIN:STANDARD
TZOFFSETFROM:+0200
TZOFFSETTO:+0100
TZNAME:CET
DTSTART:20251026T010000
END:STANDARD
BEGIN:DAYLIGHT
TZOFFSETFROM:+0100
TZOFFSETTO:+0200
TZNAME:CEST
DTSTART:20260329T010000
END:DAYLIGHT
BEGIN:STANDARD
TZOFFSETFROM:+0200
TZOFFSETTO:+0100
TZNAME:CET
DTSTART:20261025T010000
END:STANDARD
BEGIN:DAYLIGHT
TZOFFSETFROM:+0100
TZOFFSETTO:+0200
TZNAME:CEST
DTSTART:20270328T010000
END:DAYLIGHT
BEGIN:STANDARD
TZOFFSETFROM:+0200
TZOFFSETTO:+0100
TZNAME:CET
DTSTART:20271031T010000
END:STANDARD
END:VTIMEZONE
BEGIN:VEVENT
DTSTART;VALUE=DATE:20260808
DTEND;VALUE=DATE:20260826
DTSTAMP:20260421T132339
CREATED:20260416T062506Z
LAST-MODIFIED:20260416T062506Z
UID:143179-1786147200-1787702399@actu.art
SUMMARY:Exposition de peinture – Sylvie Marillaud
DESCRIPTION:Découvrez l’univers de Sylvie Marillaud\, artiste plasticienne mêlant photographie et peinture. Ses œuvres sensibles et originales invitent à voyager entre réalité et imaginaire.
URL:https://actu.art/event/exposition-de-peinture-sylvie-marillaud/
LOCATION:Château de Bonnemie\, 35 avenue de Bonnemie\, Saint-Pierre-d'Oléron\, Charente-Maritime\, 17310
CATEGORIES:Expositions
END:VEVENT
END:VCALENDAR