BEGIN:VCALENDAR
VERSION:2.0
PRODID:-//Actu.Art - ECPv6.15.13//NONSGML v1.0//EN
CALSCALE:GREGORIAN
METHOD:PUBLISH
X-WR-CALNAME:Actu.Art
X-ORIGINAL-URL:https://actu.art
X-WR-CALDESC:Évènements pour Actu.Art
BEGIN:VTIMEZONE
TZID:Europe/Paris
BEGIN:DAYLIGHT
TZOFFSETFROM:+0100
TZOFFSETTO:+0200
TZNAME:CEST
DTSTART:20240331T010000
END:DAYLIGHT
BEGIN:STANDARD
TZOFFSETFROM:+0200
TZOFFSETTO:+0100
TZNAME:CET
DTSTART:20241027T010000
END:STANDARD
BEGIN:DAYLIGHT
TZOFFSETFROM:+0100
TZOFFSETTO:+0200
TZNAME:CEST
DTSTART:20250330T010000
END:DAYLIGHT
BEGIN:STANDARD
TZOFFSETFROM:+0200
TZOFFSETTO:+0100
TZNAME:CET
DTSTART:20251026T010000
END:STANDARD
BEGIN:DAYLIGHT
TZOFFSETFROM:+0100
TZOFFSETTO:+0200
TZNAME:CEST
DTSTART:20260329T010000
END:DAYLIGHT
BEGIN:STANDARD
TZOFFSETFROM:+0200
TZOFFSETTO:+0100
TZNAME:CET
DTSTART:20261025T010000
END:STANDARD
END:VTIMEZONE
BEGIN:VEVENT
DTSTART;VALUE=DATE:20250513
DTEND;VALUE=DATE:20250527
DTSTAMP:20260426T001650
CREATED:20250530T215107Z
LAST-MODIFIED:20250530T215107Z
UID:118391-1747094400-1748303999@actu.art
SUMMARY:Exposition de peinture par Delphine MARIE
DESCRIPTION:Peinture pastel\, aquarelle et à l’huile.
URL:https://actu.art/event/exposition-de-peinture-par-delphine-marie/
LOCATION:Galerie de Carentan\, 21 Rue du Château\, Carentan-les-Marais\, Manche\, 50500\, France
CATEGORIES:Expositions Galeries
ATTACH;FMTTYPE=image/jpeg:https://actu.art/wp-content/uploads/2025/05/Exposition_de_peinture_par_Delphine_MARIE.jpg
GEO:49.3040913;-1.242393
X-APPLE-STRUCTURED-LOCATION;VALUE=URI;X-ADDRESS=Galerie de Carentan 21 Rue du Château Carentan-les-Marais Manche 50500 France;X-APPLE-RADIUS=500;X-TITLE=21 Rue du Château:geo:-1.242393,49.3040913
END:VEVENT
END:VCALENDAR