BEGIN:VCALENDAR
VERSION:2.0
PRODID:-//Actu.Art - ECPv6.15.13//NONSGML v1.0//EN
CALSCALE:GREGORIAN
METHOD:PUBLISH
X-WR-CALNAME:Actu.Art
X-ORIGINAL-URL:https://actu.art
X-WR-CALDESC:Évènements pour Actu.Art
BEGIN:VTIMEZONE
TZID:Europe/Paris
BEGIN:DAYLIGHT
TZOFFSETFROM:+0100
TZOFFSETTO:+0200
TZNAME:CEST
DTSTART:20250330T010000
END:DAYLIGHT
BEGIN:STANDARD
TZOFFSETFROM:+0200
TZOFFSETTO:+0100
TZNAME:CET
DTSTART:20251026T010000
END:STANDARD
BEGIN:DAYLIGHT
TZOFFSETFROM:+0100
TZOFFSETTO:+0200
TZNAME:CEST
DTSTART:20260329T010000
END:DAYLIGHT
BEGIN:STANDARD
TZOFFSETFROM:+0200
TZOFFSETTO:+0100
TZNAME:CET
DTSTART:20261025T010000
END:STANDARD
BEGIN:DAYLIGHT
TZOFFSETFROM:+0100
TZOFFSETTO:+0200
TZNAME:CEST
DTSTART:20270328T010000
END:DAYLIGHT
BEGIN:STANDARD
TZOFFSETFROM:+0200
TZOFFSETTO:+0100
TZNAME:CET
DTSTART:20271031T010000
END:STANDARD
END:VTIMEZONE
BEGIN:VEVENT
DTSTART;TZID=Europe/Paris:20260411T000000
DTEND;TZID=Europe/Paris:20260507T013000
DTSTAMP:20260423T174400
CREATED:20260414T204522Z
LAST-MODIFIED:20260414T204522Z
UID:143334-1775865600-1778117400@actu.art
SUMMARY:EXPOSITION DE PEINTURE - LAURE VIDAL
DESCRIPTION:AU 48 lieu d’Arts et de Soins\, une exposition de peinture  – Laure Vidal
URL:https://actu.art/event/exposition-de-peinture-laure-vidal/
LOCATION:LE 48 lieu d’Arts et de Soins\, 48 Avenue de l'Ancien Champ-de-Mars\, Perpignan\, Pyrénées-Orientales\, 66000
CATEGORIES:Événements Artistiques locaux
ATTACH;FMTTYPE=image/jpeg:https://actu.art/wp-content/uploads/2026/04/EXPOSITION_DE_PEINTURE_LAURE_VIDAL.jpg
END:VEVENT
END:VCALENDAR