BEGIN:VCALENDAR
VERSION:2.0
PRODID:-//Actu.Art - ECPv6.15.13//NONSGML v1.0//EN
CALSCALE:GREGORIAN
METHOD:PUBLISH
X-WR-CALNAME:Actu.Art
X-ORIGINAL-URL:https://actu.art
X-WR-CALDESC:Évènements pour Actu.Art
BEGIN:VTIMEZONE
TZID:Europe/Paris
BEGIN:DAYLIGHT
TZOFFSETFROM:+0100
TZOFFSETTO:+0200
TZNAME:CEST
DTSTART:20250330T010000
END:DAYLIGHT
BEGIN:STANDARD
TZOFFSETFROM:+0200
TZOFFSETTO:+0100
TZNAME:CET
DTSTART:20251026T010000
END:STANDARD
BEGIN:DAYLIGHT
TZOFFSETFROM:+0100
TZOFFSETTO:+0200
TZNAME:CEST
DTSTART:20260329T010000
END:DAYLIGHT
BEGIN:STANDARD
TZOFFSETFROM:+0200
TZOFFSETTO:+0100
TZNAME:CET
DTSTART:20261025T010000
END:STANDARD
BEGIN:DAYLIGHT
TZOFFSETFROM:+0100
TZOFFSETTO:+0200
TZNAME:CEST
DTSTART:20270328T010000
END:DAYLIGHT
BEGIN:STANDARD
TZOFFSETFROM:+0200
TZOFFSETTO:+0100
TZNAME:CET
DTSTART:20271031T010000
END:STANDARD
END:VTIMEZONE
BEGIN:VEVENT
DTSTART;VALUE=DATE:20260225
DTEND;VALUE=DATE:20260406
DTSTAMP:20260423T191444
CREATED:20260305T160230Z
LAST-MODIFIED:20260305T160230Z
UID:139839-1771977600-1775433599@actu.art
SUMMARY:Exposition de peinture – Inga Ikonen
DESCRIPTION:Au cœur du temple Saint-Étienne de Mulhouse\, laissez-vous toucher par une exposition profondément humaine\, où l’émotion se mêle à la couleur et à la matière. À travers ses œuvres\, Inga Ikonen vous ouvre les portes de son univers intérieur\, un espace sensible où chaque tableau devient le reflet d’un chemin de vie\, d’une émotion\, d’une quête personnelle.\nArtiste peintre et fresquiste née en 1979 en Asie centrale\, dans une Union Soviétique sur le point de basculer\, Inga Ikonen a grandi au milieu des odeurs\, des couleurs et de la douceur de l’atelier de son père\, lui-même artiste. Peindre est pour elle une manière de se reconnecter à cette enfance\, mais aussi de vivre le présent avec intensité. Ses créations naissent de ses souvenirs\, de ses rêves\, de ses visions et de son parcours singulier\, qui l’ont façonnée en tant que femme et en tant qu’artiste.\nSes tableaux\, très personnels\, parlent pourtant à chacun. Ils évoquent la beauté de l’être humain\, sa fragilité\, sa capacité de résilience. Derrière les formes et les couleurs\, vous percevez une histoire universelle\, celle de la sensibilité et de la force qui habitent chacun de nous.\nLa critique d’art Elisabetta La Rosa souligne l’intensité poétique du travail d’Inga Ikonen\, une artiste capable d’explorer les racines profondes de l’âme humaine. En partant de sa propre expérience\, elle parvient à toucher à l’essence de la pensée collective\, à fusionner l’intime et l’universel\, donnant ainsi naissance à une œuvre à la fois introspective et lumineuse.\nEn franchissant les portes de cette exposition\, vous êtes invité à ressentir\, à vous laisser traverser par les émotions et à découvrir une peinture qui parle au cœur autant qu’à l’esprit. Une rencontre artistique sincère\, délicate et profondément inspirante.
URL:https://actu.art/event/exposition-de-peinture-inga-ikonen/
LOCATION:Temple Saint-Etienne\, 12 place de la Réunion\, Mulhouse\, Haut-Rhin\, 68100
CATEGORIES:Expositions
ATTACH;FMTTYPE=image/jpeg:https://actu.art/wp-content/uploads/2026/03/Exposition_de_peinture_Inga_Ikonen.jpg
GEO:47.7471859;7.338301
X-APPLE-STRUCTURED-LOCATION;VALUE=URI;X-ADDRESS=Temple Saint-Etienne 12 place de la Réunion Mulhouse Haut-Rhin 68100;X-APPLE-RADIUS=500;X-TITLE=12 place de la Réunion:geo:7.338301,47.7471859
END:VEVENT
END:VCALENDAR