BEGIN:VCALENDAR
VERSION:2.0
PRODID:-//Actu.Art - ECPv6.15.13//NONSGML v1.0//EN
CALSCALE:GREGORIAN
METHOD:PUBLISH
X-WR-CALNAME:Actu.Art
X-ORIGINAL-URL:https://actu.art
X-WR-CALDESC:Évènements pour Actu.Art
BEGIN:VTIMEZONE
TZID:Europe/Paris
BEGIN:DAYLIGHT
TZOFFSETFROM:+0100
TZOFFSETTO:+0200
TZNAME:CEST
DTSTART:20250330T010000
END:DAYLIGHT
BEGIN:STANDARD
TZOFFSETFROM:+0200
TZOFFSETTO:+0100
TZNAME:CET
DTSTART:20251026T010000
END:STANDARD
BEGIN:DAYLIGHT
TZOFFSETFROM:+0100
TZOFFSETTO:+0200
TZNAME:CEST
DTSTART:20260329T010000
END:DAYLIGHT
BEGIN:STANDARD
TZOFFSETFROM:+0200
TZOFFSETTO:+0100
TZNAME:CET
DTSTART:20261025T010000
END:STANDARD
BEGIN:DAYLIGHT
TZOFFSETFROM:+0100
TZOFFSETTO:+0200
TZNAME:CEST
DTSTART:20270328T010000
END:DAYLIGHT
BEGIN:STANDARD
TZOFFSETFROM:+0200
TZOFFSETTO:+0100
TZNAME:CET
DTSTART:20271031T010000
END:STANDARD
END:VTIMEZONE
BEGIN:VEVENT
DTSTART;TZID=Europe/Paris:20260206T170000
DTEND;TZID=Europe/Paris:20260305T180000
DTSTAMP:20260419T175559
CREATED:20260213T193037Z
LAST-MODIFIED:20260213T193037Z
UID:138444-1770397200-1772733600@actu.art
SUMMARY:Exposition de peinture : "Fragments de vie" de Béatrice Casanova - L'Arsenale - Bastia
DESCRIPTION:La peinture de Béatrice Casanova est traversée par des ambiances de terre\, de pierre\, d’eau et de feu\, des ambiances construites\, urbaines\, aquatiques\, naturelles sous-tendues parfois par un symbolisme riche de quête. On y croise des scènes où des personnages émergent dans un geste sûr. Son œuvre est rythmée par des accents pluriels aux couleurs intenses avec des réminiscences fauves. Les pastels « abstractions lyriques » diffuseurs de lumière en filigrane se fondent en poussières d’étoiles. Les vibrations de ce parcours aux images multiples témoignent d’une recherche perpétuelle et nous renvoient à notre propre regard.
URL:https://actu.art/event/exposition-de-peinture-fragments-de-vie-de-beatrice-casanova-larsenale-bastia/
LOCATION:L’Arsenale – la Citadelle\, Bastia\, Haute-Corse\, 20200\, France
CATEGORIES:Expositions
ATTACH;FMTTYPE=image/jpeg:https://actu.art/wp-content/uploads/2026/02/Exposition_de_peinture_Fragments_de_vie_de_Beatrice_Casanova_L_Arsenale_Bastia.jpg
GEO:42.6930561;9.4505121
END:VEVENT
END:VCALENDAR