BEGIN:VCALENDAR
VERSION:2.0
PRODID:-//Actu.Art - ECPv6.15.13//NONSGML v1.0//EN
CALSCALE:GREGORIAN
METHOD:PUBLISH
X-WR-CALNAME:Actu.Art
X-ORIGINAL-URL:https://actu.art
X-WR-CALDESC:Évènements pour Actu.Art
BEGIN:VTIMEZONE
TZID:Europe/Paris
BEGIN:DAYLIGHT
TZOFFSETFROM:+0100
TZOFFSETTO:+0200
TZNAME:CEST
DTSTART:20240331T010000
END:DAYLIGHT
BEGIN:STANDARD
TZOFFSETFROM:+0200
TZOFFSETTO:+0100
TZNAME:CET
DTSTART:20241027T010000
END:STANDARD
BEGIN:DAYLIGHT
TZOFFSETFROM:+0100
TZOFFSETTO:+0200
TZNAME:CEST
DTSTART:20250330T010000
END:DAYLIGHT
BEGIN:STANDARD
TZOFFSETFROM:+0200
TZOFFSETTO:+0100
TZNAME:CET
DTSTART:20251026T010000
END:STANDARD
BEGIN:DAYLIGHT
TZOFFSETFROM:+0100
TZOFFSETTO:+0200
TZNAME:CEST
DTSTART:20260329T010000
END:DAYLIGHT
BEGIN:STANDARD
TZOFFSETFROM:+0200
TZOFFSETTO:+0100
TZNAME:CET
DTSTART:20261025T010000
END:STANDARD
END:VTIMEZONE
BEGIN:VEVENT
DTSTART;TZID=Europe/Paris:20250430T150000
DTEND;TZID=Europe/Paris:20250504T190000
DTSTAMP:20260421T204226
CREATED:20250217T174951Z
LAST-MODIFIED:20250217T174951Z
UID:109533-1746025200-1746385200@actu.art
SUMMARY:Exposition de Peinture de Stella Nodari
DESCRIPTION:Stella Nodari\, artiste peintre d’origine italienne\, établie à Nantes depuis 18 ans nous fait l’honneur de sa présence à Clisson.
URL:https://actu.art/event/exposition-de-peinture-de-stella-nodari/
LOCATION:Galerie du Minage\, Rue du Minage\, Clisson\, Loire-Atlantique\, 44190\, France
CATEGORIES:Expositions Galeries
GEO:47.087032;-1.2825651
X-APPLE-STRUCTURED-LOCATION;VALUE=URI;X-ADDRESS=Galerie du Minage Rue du Minage Clisson Loire-Atlantique 44190 France;X-APPLE-RADIUS=500;X-TITLE=Rue du Minage:geo:-1.2825651,47.087032
END:VEVENT
END:VCALENDAR