BEGIN:VCALENDAR
VERSION:2.0
PRODID:-//Actu.Art - ECPv6.15.13//NONSGML v1.0//EN
CALSCALE:GREGORIAN
METHOD:PUBLISH
X-WR-CALNAME:Actu.Art
X-ORIGINAL-URL:https://actu.art
X-WR-CALDESC:Évènements pour Actu.Art
BEGIN:VTIMEZONE
TZID:Europe/Paris
BEGIN:DAYLIGHT
TZOFFSETFROM:+0100
TZOFFSETTO:+0200
TZNAME:CEST
DTSTART:20240331T010000
END:DAYLIGHT
BEGIN:STANDARD
TZOFFSETFROM:+0200
TZOFFSETTO:+0100
TZNAME:CET
DTSTART:20241027T010000
END:STANDARD
BEGIN:DAYLIGHT
TZOFFSETFROM:+0100
TZOFFSETTO:+0200
TZNAME:CEST
DTSTART:20250330T010000
END:DAYLIGHT
BEGIN:STANDARD
TZOFFSETFROM:+0200
TZOFFSETTO:+0100
TZNAME:CET
DTSTART:20251026T010000
END:STANDARD
BEGIN:DAYLIGHT
TZOFFSETFROM:+0100
TZOFFSETTO:+0200
TZNAME:CEST
DTSTART:20260329T010000
END:DAYLIGHT
BEGIN:STANDARD
TZOFFSETFROM:+0200
TZOFFSETTO:+0100
TZNAME:CET
DTSTART:20261025T010000
END:STANDARD
END:VTIMEZONE
BEGIN:VEVENT
DTSTART;TZID=Europe/Paris:20250428T100000
DTEND;TZID=Europe/Paris:20250504T190000
DTSTAMP:20260425T022143
CREATED:20250305T195321Z
LAST-MODIFIED:20250305T195321Z
UID:111169-1745834400-1746385200@actu.art
SUMMARY:Exposition de peinture de Cévrik Dussaud
DESCRIPTION:Cévrik Dussaud vous invite à découvrir ses toiles colorées et joyeuses. Une invitation au voyage.
URL:https://actu.art/event/exposition-de-peinture-de-cevrik-dussaud/
LOCATION:Cabane N°14\, rue du Fort Pâté\, Le Château-d'Oléron\, Charente-Maritime\, 17480\, France
CATEGORIES:Expositions
GEO:45.8828651;-1.1941252
X-APPLE-STRUCTURED-LOCATION;VALUE=URI;X-ADDRESS=Cabane N°14 rue du Fort Pâté Le Château-d'Oléron Charente-Maritime 17480 France;X-APPLE-RADIUS=500;X-TITLE=rue du Fort Pâté:geo:-1.1941252,45.8828651
END:VEVENT
END:VCALENDAR