BEGIN:VCALENDAR
VERSION:2.0
PRODID:-//Actu.Art - ECPv6.15.13//NONSGML v1.0//EN
CALSCALE:GREGORIAN
METHOD:PUBLISH
X-WR-CALNAME:Actu.Art
X-ORIGINAL-URL:https://actu.art
X-WR-CALDESC:Évènements pour Actu.Art
BEGIN:VTIMEZONE
TZID:Europe/Paris
BEGIN:DAYLIGHT
TZOFFSETFROM:+0100
TZOFFSETTO:+0200
TZNAME:CEST
DTSTART:20240331T010000
END:DAYLIGHT
BEGIN:STANDARD
TZOFFSETFROM:+0200
TZOFFSETTO:+0100
TZNAME:CET
DTSTART:20241027T010000
END:STANDARD
BEGIN:DAYLIGHT
TZOFFSETFROM:+0100
TZOFFSETTO:+0200
TZNAME:CEST
DTSTART:20250330T010000
END:DAYLIGHT
BEGIN:STANDARD
TZOFFSETFROM:+0200
TZOFFSETTO:+0100
TZNAME:CET
DTSTART:20251026T010000
END:STANDARD
BEGIN:DAYLIGHT
TZOFFSETFROM:+0100
TZOFFSETTO:+0200
TZNAME:CEST
DTSTART:20260329T010000
END:DAYLIGHT
BEGIN:STANDARD
TZOFFSETFROM:+0200
TZOFFSETTO:+0100
TZNAME:CET
DTSTART:20261025T010000
END:STANDARD
END:VTIMEZONE
BEGIN:VEVENT
DTSTART;TZID=Europe/Paris:20250701T103000
DTEND;TZID=Europe/Paris:20250726T190000
DTSTAMP:20260420T221748
CREATED:20250609T172601Z
LAST-MODIFIED:20250609T172601Z
UID:120420-1751365800-1753556400@actu.art
SUMMARY:Exposition de peinture Claude W.Baumas
DESCRIPTION:Véritable conteuse picturale l’artiste invite sur ses toiles à explorer des récits riches et variés. Inspirée par le surréalisme\, le Pop art et le Street art\, elle mêle instinctivement les styles\, les techniques  et les effets sur un même tableau.
URL:https://actu.art/event/exposition-de-peinture-claude-w-baumas/
LOCATION:Galerie Chez Cathy\, 12 rue Matheron\, Aix-en-Provence\, Bouches-du-Rhône\, 13100
CATEGORIES:Expositions Galeries
ATTACH;FMTTYPE=image/jpeg:https://actu.art/wp-content/uploads/2025/06/Exposition_de_peinture_Claude_W_Baumas.jpg
GEO:43.5304217;5.4493252
X-APPLE-STRUCTURED-LOCATION;VALUE=URI;X-ADDRESS=Galerie Chez Cathy 12 rue Matheron Aix-en-Provence Bouches-du-Rhône 13100;X-APPLE-RADIUS=500;X-TITLE=12 rue Matheron:geo:5.4493252,43.5304217
END:VEVENT
END:VCALENDAR