BEGIN:VCALENDAR
VERSION:2.0
PRODID:-//Actu.Art - ECPv6.15.13//NONSGML v1.0//EN
CALSCALE:GREGORIAN
METHOD:PUBLISH
X-WR-CALNAME:Actu.Art
X-ORIGINAL-URL:https://actu.art
X-WR-CALDESC:Évènements pour Actu.Art
BEGIN:VTIMEZONE
TZID:Europe/Paris
BEGIN:DAYLIGHT
TZOFFSETFROM:+0100
TZOFFSETTO:+0200
TZNAME:CEST
DTSTART:20240331T010000
END:DAYLIGHT
BEGIN:STANDARD
TZOFFSETFROM:+0200
TZOFFSETTO:+0100
TZNAME:CET
DTSTART:20241027T010000
END:STANDARD
BEGIN:DAYLIGHT
TZOFFSETFROM:+0100
TZOFFSETTO:+0200
TZNAME:CEST
DTSTART:20250330T010000
END:DAYLIGHT
BEGIN:STANDARD
TZOFFSETFROM:+0200
TZOFFSETTO:+0100
TZNAME:CET
DTSTART:20251026T010000
END:STANDARD
BEGIN:DAYLIGHT
TZOFFSETFROM:+0100
TZOFFSETTO:+0200
TZNAME:CEST
DTSTART:20260329T010000
END:DAYLIGHT
BEGIN:STANDARD
TZOFFSETFROM:+0200
TZOFFSETTO:+0100
TZNAME:CET
DTSTART:20261025T010000
END:STANDARD
END:VTIMEZONE
BEGIN:VEVENT
DTSTART;TZID=Europe/Paris:20251004T140000
DTEND;TZID=Europe/Paris:20251111T180000
DTSTAMP:20260424T213632
CREATED:20251009T203048Z
LAST-MODIFIED:20251009T203048Z
UID:130237-1759586400-1762884000@actu.art
SUMMARY:Exposition de peinture Christian Perrier
DESCRIPTION:Les week-ends de 14h à 18h et le week-end du 11 novembre
URL:https://actu.art/event/exposition-de-peinture-christian-perrier/
LOCATION:Donjon de Menetou-Couture\, 4 place du Donjon\, Menetou-Couture\, Cher\, 18320
CATEGORIES:Expositions
ATTACH;FMTTYPE=image/jpeg:https://actu.art/wp-content/uploads/2025/10/Exposition_de_peinture_Christian_Perrier.jpg
GEO:47.0452941;2.9150505
X-APPLE-STRUCTURED-LOCATION;VALUE=URI;X-ADDRESS=Donjon de Menetou-Couture 4 place du Donjon Menetou-Couture Cher 18320;X-APPLE-RADIUS=500;X-TITLE=4 place du Donjon:geo:2.9150505,47.0452941
END:VEVENT
END:VCALENDAR