BEGIN:VCALENDAR
VERSION:2.0
PRODID:-//Actu.Art - ECPv6.15.13//NONSGML v1.0//EN
CALSCALE:GREGORIAN
METHOD:PUBLISH
X-WR-CALNAME:Actu.Art
X-ORIGINAL-URL:https://actu.art
X-WR-CALDESC:Évènements pour Actu.Art
BEGIN:VTIMEZONE
TZID:Europe/Paris
BEGIN:DAYLIGHT
TZOFFSETFROM:+0100
TZOFFSETTO:+0200
TZNAME:CEST
DTSTART:20240331T010000
END:DAYLIGHT
BEGIN:STANDARD
TZOFFSETFROM:+0200
TZOFFSETTO:+0100
TZNAME:CET
DTSTART:20241027T010000
END:STANDARD
BEGIN:DAYLIGHT
TZOFFSETFROM:+0100
TZOFFSETTO:+0200
TZNAME:CEST
DTSTART:20250330T010000
END:DAYLIGHT
BEGIN:STANDARD
TZOFFSETFROM:+0200
TZOFFSETTO:+0100
TZNAME:CET
DTSTART:20251026T010000
END:STANDARD
BEGIN:DAYLIGHT
TZOFFSETFROM:+0100
TZOFFSETTO:+0200
TZNAME:CEST
DTSTART:20260329T010000
END:DAYLIGHT
BEGIN:STANDARD
TZOFFSETFROM:+0200
TZOFFSETTO:+0100
TZNAME:CET
DTSTART:20261025T010000
END:STANDARD
END:VTIMEZONE
BEGIN:VEVENT
DTSTART;TZID=Europe/Paris:20250804T140000
DTEND;TZID=Europe/Paris:20250816T180000
DTSTAMP:20260422T142651
CREATED:20250729T201732Z
LAST-MODIFIED:20250729T201732Z
UID:124968-1754316000-1755367200@actu.art
SUMMARY:Exposition de peinture Chemins de croix
DESCRIPTION:Exposition de peinture du 4 au 16 août 2025 à l’Eglise de Saint-Etienne-la-Thillaye.\nLes 9 et 16 août\, présence de l’artiste qui réalisera de rapides croquis aquarellés de petits enfants au bénéfice de l’Association « Musiques et Patrimoine à Saint-Etienne-la-Thillaye » et pour la restauration de l’église.
URL:https://actu.art/event/exposition-de-peinture-chemins-de-croix/
LOCATION:Eglise de Saint-Étienne-la-Thillaye\, Chemin de l'Église\, Saint-Étienne-la-Thillaye\, Calvados\, 14950
CATEGORIES:Expositions
END:VEVENT
END:VCALENDAR