BEGIN:VCALENDAR
VERSION:2.0
PRODID:-//Actu.Art - ECPv6.15.13//NONSGML v1.0//EN
CALSCALE:GREGORIAN
METHOD:PUBLISH
X-WR-CALNAME:Actu.Art
X-ORIGINAL-URL:https://actu.art
X-WR-CALDESC:Évènements pour Actu.Art
BEGIN:VTIMEZONE
TZID:Europe/Paris
BEGIN:DAYLIGHT
TZOFFSETFROM:+0100
TZOFFSETTO:+0200
TZNAME:CEST
DTSTART:20240331T010000
END:DAYLIGHT
BEGIN:STANDARD
TZOFFSETFROM:+0200
TZOFFSETTO:+0100
TZNAME:CET
DTSTART:20241027T010000
END:STANDARD
BEGIN:DAYLIGHT
TZOFFSETFROM:+0100
TZOFFSETTO:+0200
TZNAME:CEST
DTSTART:20250330T010000
END:DAYLIGHT
BEGIN:STANDARD
TZOFFSETFROM:+0200
TZOFFSETTO:+0100
TZNAME:CET
DTSTART:20251026T010000
END:STANDARD
BEGIN:DAYLIGHT
TZOFFSETFROM:+0100
TZOFFSETTO:+0200
TZNAME:CEST
DTSTART:20260329T010000
END:DAYLIGHT
BEGIN:STANDARD
TZOFFSETFROM:+0200
TZOFFSETTO:+0100
TZNAME:CET
DTSTART:20261025T010000
END:STANDARD
END:VTIMEZONE
BEGIN:VEVENT
DTSTART;TZID=Europe/Paris:20250807T150000
DTEND;TZID=Europe/Paris:20250915T190000
DTSTAMP:20260422T193329
CREATED:20250818T204716Z
LAST-MODIFIED:20250818T204716Z
UID:127137-1754578800-1757962800@actu.art
SUMMARY:Exposition de Peinture à la Tour des Laudes
DESCRIPTION:En cette 28ème année d’expositions\, l’association de la galerie d’art de La TOUR d e s LAUDES a le plaisir de vous présenter et de vous inviter à visiter tout l’été 2025 jusqu’au 15 septembre les œuvres de VAESCA\, artiste – peintre contemporain et pour son exposition  » à fleur de peau  » ainsi que les sculptures en terre de Chantal MORHANGE Cette exposition est visible gratuitement tous les jours de 15 h à 19 h et sur rendez-vous au 06 23 48 06 09.
URL:https://actu.art/event/exposition-de-peinture-a-la-tour-des-laudes/
LOCATION:La Tour des Laudes\, 14 Rue de la Tour\, Terval\, Vendée\, 85120
CATEGORIES:Événements Artistiques locaux
ATTACH;FMTTYPE=image/jpeg:https://actu.art/wp-content/uploads/2025/08/Exposition_de_Peinture_a_la_Tour_des_Laudes.jpg
END:VEVENT
END:VCALENDAR