BEGIN:VCALENDAR
VERSION:2.0
PRODID:-//Actu.Art - ECPv6.15.13//NONSGML v1.0//EN
CALSCALE:GREGORIAN
METHOD:PUBLISH
X-WR-CALNAME:Actu.Art
X-ORIGINAL-URL:https://actu.art
X-WR-CALDESC:Évènements pour Actu.Art
BEGIN:VTIMEZONE
TZID:Europe/Paris
BEGIN:DAYLIGHT
TZOFFSETFROM:+0100
TZOFFSETTO:+0200
TZNAME:CEST
DTSTART:20240331T010000
END:DAYLIGHT
BEGIN:STANDARD
TZOFFSETFROM:+0200
TZOFFSETTO:+0100
TZNAME:CET
DTSTART:20241027T010000
END:STANDARD
BEGIN:DAYLIGHT
TZOFFSETFROM:+0100
TZOFFSETTO:+0200
TZNAME:CEST
DTSTART:20250330T010000
END:DAYLIGHT
BEGIN:STANDARD
TZOFFSETFROM:+0200
TZOFFSETTO:+0100
TZNAME:CET
DTSTART:20251026T010000
END:STANDARD
BEGIN:DAYLIGHT
TZOFFSETFROM:+0100
TZOFFSETTO:+0200
TZNAME:CEST
DTSTART:20260329T010000
END:DAYLIGHT
BEGIN:STANDARD
TZOFFSETFROM:+0200
TZOFFSETTO:+0100
TZNAME:CET
DTSTART:20261025T010000
END:STANDARD
END:VTIMEZONE
BEGIN:VEVENT
DTSTART;TZID=Europe/Paris:20250601T140000
DTEND;TZID=Europe/Paris:20250630T180000
DTSTAMP:20260420T155959
CREATED:20250529T203131Z
LAST-MODIFIED:20250529T203131Z
UID:119061-1748786400-1751306400@actu.art
SUMMARY:Exposition de peinture
DESCRIPTION:Exposition des peintures de Philippe Andrieu
URL:https://actu.art/event/exposition-de-peinture-42/
LOCATION:Eglise du Temple\, Place des Templiers\, Port-Sainte-Marie\, Lot-et-Garonne\, 47130\, France
CATEGORIES:Expositions
ATTACH;FMTTYPE=image/jpeg:https://actu.art/wp-content/uploads/2025/05/Exposition_de_peinture-5.jpg
GEO:44.250245;0.395615
X-APPLE-STRUCTURED-LOCATION;VALUE=URI;X-ADDRESS=Eglise du Temple Place des Templiers Port-Sainte-Marie Lot-et-Garonne 47130 France;X-APPLE-RADIUS=500;X-TITLE=Place des Templiers:geo:0.395615,44.250245
END:VEVENT
END:VCALENDAR