BEGIN:VCALENDAR
VERSION:2.0
PRODID:-//Actu.Art - ECPv6.15.13//NONSGML v1.0//EN
CALSCALE:GREGORIAN
METHOD:PUBLISH
X-WR-CALNAME:Actu.Art
X-ORIGINAL-URL:https://actu.art
X-WR-CALDESC:Évènements pour Actu.Art
BEGIN:VTIMEZONE
TZID:Europe/Paris
BEGIN:DAYLIGHT
TZOFFSETFROM:+0100
TZOFFSETTO:+0200
TZNAME:CEST
DTSTART:20240331T010000
END:DAYLIGHT
BEGIN:STANDARD
TZOFFSETFROM:+0200
TZOFFSETTO:+0100
TZNAME:CET
DTSTART:20241027T010000
END:STANDARD
BEGIN:DAYLIGHT
TZOFFSETFROM:+0100
TZOFFSETTO:+0200
TZNAME:CEST
DTSTART:20250330T010000
END:DAYLIGHT
BEGIN:STANDARD
TZOFFSETFROM:+0200
TZOFFSETTO:+0100
TZNAME:CET
DTSTART:20251026T010000
END:STANDARD
BEGIN:DAYLIGHT
TZOFFSETFROM:+0100
TZOFFSETTO:+0200
TZNAME:CEST
DTSTART:20260329T010000
END:DAYLIGHT
BEGIN:STANDARD
TZOFFSETFROM:+0200
TZOFFSETTO:+0100
TZNAME:CET
DTSTART:20261025T010000
END:STANDARD
END:VTIMEZONE
BEGIN:VEVENT
DTSTART;TZID=Europe/Paris:20250905T103000
DTEND;TZID=Europe/Paris:20250918T190000
DTSTAMP:20260419T164729
CREATED:20250922T180303Z
LAST-MODIFIED:20250922T180303Z
UID:129499-1757068200-1758222000@actu.art
SUMMARY:Exposition de Mona Colombia
DESCRIPTION:Guidée par une évolution spirituelle tout autant que sensorielle\, passionnée de la vie\, née à Bogota\, « Mona » vit aujourd’hui en France toujours non loin de l’Océan Atlantique. De Colombie\, elle a gardé précieusement le goût des couleurs pures et vives des façades; d’Argentine\, le souvenir des quartiers aux noms ensoleillés de Palermo\, San Telmo\, La Boca\, Caminito\, où le tango se danse au milieu des musiciens et peintres. Ses peintures abstraites avec des formes géométriques ajoutent parfois en premier plan quelques esquisses de danseurs et des regards\, des masques indigènes\, pour rappeler qu’au milieu des forêts tropicales de sa jeunesse vivent des hommes respectueux de la terre\, menant une vie simple et spirituelle comme les Kogis de la Sierra Nevada Santa Marta en Colombie.   \nSource : ADT44 \nHoraires\nLundi 10h30 à 12h30 et 16h00 à 19h00\nMardi 10h30 à 12h30 et 16h00 à 19h00\nMercredi 10h30 à 12h30 et 16h00 à 19h00\nJeudi 10h30 à 12h30 et 16h00 à 19h00\nVendredi 10h30 à 12h30 et 16h00 à 19h00\nSamedi 10h30 à 12h30 et 16h00 à 19h00\nDimanche 10h30 à 12h30 et 16h00 à 19h00
URL:https://actu.art/event/exposition-de-mona-colombia/
LOCATION:Place de l’Orée du bois – Quimiac\, La Poissonnerie\, Mesquer\, Loire-Atlantique\, 44420
CATEGORIES:Expositions
GEO:47.4064726;-2.4846717
X-APPLE-STRUCTURED-LOCATION;VALUE=URI;X-ADDRESS=Place de l’Orée du bois – Quimiac La Poissonnerie Mesquer Loire-Atlantique 44420;X-APPLE-RADIUS=500;X-TITLE=La Poissonnerie:geo:-2.4846717,47.4064726
END:VEVENT
END:VCALENDAR